FILENAME: O4711250.NWS.949837.tif
QUADRANGLE_NAME: OLSON PEAK
QUADRANT: NW
WEST_LONGITUDE: -112 52 30.00000
EAST_LONGITUDE: -112 48 45.00000
NORTH_LATITUDE: 47 15 0.00000
SOUTH_LATITUDE: 47 11 15.00000
PRODUCTION_DATE: 1998 12 18
RASTER_ORDER: LEFT_RIGHT/TOP_BOTTOM
BAND_ORGANIZATION: SINGLE FILE
BAND_CONTENT: BLACK&WHITE
BAND_CONTENT: UNDEFINED
BAND_CONTENT: UNDEFINED
BITS_PER_PIXEL: 8
SAMPLES_AND_LINES: 5580 7710
HORIZONTAL_DATUM: NAD83
HORIZONTAL_COORDINATE_SYSTEM: UTM
COORDINATE_ZONE: 12
HORIZONTAL_UNITS: METERS
HORIZONTAL_RESOLUTION: 1.00000
SECONDARY_HORIZONTAL_DATUM: NAD27
XY_ORIGIN: 357570.00000 5234970.00000
SECONDARY_XY_ORIGIN: 357632.27800 5234756.19700
NATION: US
STATE: MT
NW_QUAD_CORNER_XY: 358120.27600 5234651.33700
NE_QUAD_CORNER_XY: 362849.47600 5234539.54700
SE_QUAD_CORNERY_XY: 362688.16400 5227594.14700
SW_QUAD_CORNER_XY: 357953.39800 5227705.95600
SECONDARY_NW_QUAD_XY: 358115.88000 5234432.74900
SECONDARY_NE_QUAD_XY: 362845.22700 5234320.95500
SECONDARY_SE_QUAD_XY: 362683.91500 5227375.58000
SECONDARY_SW_QUAD_XY: 357949.00300 5227487.39300
RMSE_XY: 2.29000
IMAGE_SOURCE: BLACK AND WHITE FILM
SOURCE_IMAGE_ID: NAPP 9491 70
SOURCE_IMAGE_DATE: 1995 09 01
SOURCE_IMAGE_ID: NAPP 9491 68
SOURCE_IMAGE_DATE: 1995 09 01
SOURCE_DEM_DATE: 1958 00 00
AGENCY: WESTERN MAPPING CENTER (WMC)
PRODUCER: ANALYTICAL SURVEYS INC.
PRODUCTION_SYSTEM: ORBIT OR_RECTIFY V.5.2
COMPRESSION: UNDEFINED
STANDARD_VERSION: 1996 12
METADATA_DATE: 1998 12 28
DATA_FILE_SIZE: 43027380
BYTE_COUNT: 5580
