FILENAME: O4711249.SWS.949939.tif
QUADRANGLE_NAME: LAKE MOUNTAIN
QUADRANT: SW
WEST_LONGITUDE: -113 0 0.00000
EAST_LONGITUDE: -112 56 15.00000
NORTH_LATITUDE: 47 11 15.00000
SOUTH_LATITUDE: 47 7 30.00000
PRODUCTION_DATE: 1998 12 18
RASTER_ORDER: LEFT_RIGHT/TOP_BOTTOM
BAND_ORGANIZATION: SINGLE FILE
BAND_CONTENT: BLACK&WHITE
BAND_CONTENT: UNDEFINED
BAND_CONTENT: UNDEFINED
BITS_PER_PIXEL: 8
SAMPLES_AND_LINES: 5610 7680
HORIZONTAL_DATUM: NAD83
HORIZONTAL_COORDINATE_SYSTEM: UTM
COORDINATE_ZONE: 12
HORIZONTAL_UNITS: METERS
HORIZONTAL_RESOLUTION: 1.00000
SECONDARY_HORIZONTAL_DATUM: NAD27
XY_ORIGIN: 347910.00000 5228250.00000
SECONDARY_XY_ORIGIN: 347972.46900 5228036.21900
NATION: US
STATE: MT
NW_QUAD_CORNER_XY: 348483.90500 5227940.95200
NE_QUAD_CORNER_XY: 353218.64500 5227821.55800
SE_QUAD_CORNERY_XY: 353046.37700 5220876.26300
SW_QUAD_CORNER_XY: 348306.07600 5220995.67700
SECONDARY_NW_QUAD_XY: 348479.21700 5227722.39600
SECONDARY_NE_QUAD_XY: 353214.10300 5227602.99800
SECONDARY_SE_QUAD_XY: 353041.83600 5220657.73000
SECONDARY_SW_QUAD_XY: 348301.38800 5220777.14700
RMSE_XY: 4.81000
IMAGE_SOURCE: BLACK AND WHITE FILM
SOURCE_IMAGE_ID: NAPP 9489 22
SOURCE_IMAGE_DATE: 1995 08 28
SOURCE_IMAGE_ID: NAPP 8399 22
SOURCE_IMAGE_DATE: 1995 08 28
SOURCE_IMAGE_ID: NAPP 9489 45
SOURCE_IMAGE_DATE: 1995 08 28
SOURCE_DEM_DATE: 1988 00 00
AGENCY: WESTERN MAPPING CENTER (WMC)
PRODUCER: ANALYTICAL SURVEYS INC.
PRODUCTION_SYSTEM: ORBIT OR_RECTIFY V.5.2
COMPRESSION: UNDEFINED
STANDARD_VERSION: 1996 12
METADATA_DATE: 1999 01 06
DATA_FILE_SIZE: 43090410
BYTE_COUNT: 5610
