FILENAME: O4711246.NWS.965065.tif
QUADRANGLE_NAME: KRONE RANCH
QUADRANT: NW
WEST_LONGITUDE: -112 22 30.00000
EAST_LONGITUDE: -112 18 45.00000
NORTH_LATITUDE: 47 22 30.00000
SOUTH_LATITUDE: 47 18 45.00000
PRODUCTION_DATE: 1998 12 28
RASTER_ORDER: LEFT_RIGHT/TOP_BOTTOM
BAND_ORGANIZATION: SINGLE FILE
BAND_CONTENT: BLACK&WHITE
BAND_CONTENT: UNDEFINED
BAND_CONTENT: UNDEFINED
BITS_PER_PIXEL: 8
SAMPLES_AND_LINES: 5520 7680
HORIZONTAL_DATUM: NAD83
HORIZONTAL_COORDINATE_SYSTEM: UTM
COORDINATE_ZONE: 12
HORIZONTAL_UNITS: METERS
HORIZONTAL_RESOLUTION: 1.00000
SECONDARY_HORIZONTAL_DATUM: NAD27
XY_ORIGIN: 395700.00000 5248080.00000
SECONDARY_XY_ORIGIN: 395761.45400 5247866.16800
NATION: US
STATE: MT
NW_QUAD_CORNER_XY: 396199.29800 5247754.41000
NE_QUAD_CORNER_XY: 400917.44200 5247672.97600
SE_QUAD_CORNERY_XY: 400800.40900 5240727.30500
SW_QUAD_CORNER_XY: 396076.68900 5240808.75400
SECONDARY_NW_QUAD_XY: 396196.07300 5247535.74900
SECONDARY_NE_QUAD_XY: 400914.36500 5247454.31200
SECONDARY_SE_QUAD_XY: 400797.33200 5240508.66500
SECONDARY_SW_QUAD_XY: 396073.46500 5240590.11700
RMSE_XY: 2.64000
IMAGE_SOURCE: BLACK AND WHITE FILM
SOURCE_IMAGE_ID: NAPP 8381 113
SOURCE_IMAGE_DATE: 1995 07 28
SOURCE_DEM_DATE: 1998 01 01
AGENCY: WESTERN MAPPING CENTER (WMC)
PRODUCER: ANALYTICAL SURVEYS INC.
PRODUCTION_SYSTEM: ORBIT OR_RECTIFY V.5.2
COMPRESSION: UNDEFINED
STANDARD_VERSION: 1996 12
METADATA_DATE: 1998 12 30
DATA_FILE_SIZE: 42399120
BYTE_COUNT: 5520
