FILENAME: O4711246.SES.965067.tif
QUADRANGLE_NAME: KRONE RANCH
QUADRANT: SE
WEST_LONGITUDE: -112 18 45.00000
EAST_LONGITUDE: -112 15 0.00000
NORTH_LATITUDE: 47 18 45.00000
SOUTH_LATITUDE: 47 15 0.00000
PRODUCTION_DATE: 1998 12 28
RASTER_ORDER: LEFT_RIGHT/TOP_BOTTOM
BAND_ORGANIZATION: SINGLE FILE
BAND_CONTENT: BLACK&WHITE
BAND_CONTENT: UNDEFINED
BAND_CONTENT: UNDEFINED
BITS_PER_PIXEL: 8
SAMPLES_AND_LINES: 5550 7650
HORIZONTAL_DATUM: NAD83
HORIZONTAL_COORDINATE_SYSTEM: UTM
COORDINATE_ZONE: 12
HORIZONTAL_UNITS: METERS
HORIZONTAL_RESOLUTION: 1.00000
SECONDARY_HORIZONTAL_DATUM: NAD27
XY_ORIGIN: 400290.00000 5241030.00000
SECONDARY_XY_ORIGIN: 400351.37600 5240816.28100
NATION: US
STATE: MT
NW_QUAD_CORNER_XY: 400800.40900 5240727.30500
NE_QUAD_CORNER_XY: 405524.13800 5240649.64600
SE_QUAD_CORNERY_XY: 405412.79300 5233704.03500
SW_QUAD_CORNER_XY: 400683.49400 5233781.70700
SECONDARY_NW_QUAD_XY: 400797.33200 5240508.66500
SECONDARY_NE_QUAD_XY: 405521.20700 5240431.00400
SECONDARY_SE_QUAD_XY: 405409.86200 5233485.41700
SECONDARY_SW_QUAD_XY: 400680.41700 5233563.09200
RMSE_XY: 3.85000
IMAGE_SOURCE: BLACK AND WHITE FILM
SOURCE_IMAGE_ID: NAPP 8381 3
SOURCE_IMAGE_DATE: 1995 07 28
SOURCE_DEM_DATE: 1998 01 01
AGENCY: WESTERN MAPPING CENTER (WMC)
PRODUCER: ANALYTICAL SURVEYS INC.
PRODUCTION_SYSTEM: ORBIT OR_RECTIFY V.5.2
COMPRESSION: UNDEFINED
STANDARD_VERSION: 1996 12
METADATA_DATE: 1998 12 30
DATA_FILE_SIZE: 42463050
BYTE_COUNT: 5550
