FILENAME: O4711246.SWS.965069.tif
QUADRANGLE_NAME: KRONE RANCH
QUADRANT: SW
WEST_LONGITUDE: -112 22 30.00000
EAST_LONGITUDE: -112 18 45.00000
NORTH_LATITUDE: 47 18 45.00000
SOUTH_LATITUDE: 47 15 0.00000
PRODUCTION_DATE: 1998 12 28
RASTER_ORDER: LEFT_RIGHT/TOP_BOTTOM
BAND_ORGANIZATION: SINGLE FILE
BAND_CONTENT: BLACK&WHITE
BAND_CONTENT: UNDEFINED
BAND_CONTENT: UNDEFINED
BITS_PER_PIXEL: 8
SAMPLES_AND_LINES: 5550 7650
HORIZONTAL_DATUM: NAD83
HORIZONTAL_COORDINATE_SYSTEM: UTM
COORDINATE_ZONE: 12
HORIZONTAL_UNITS: METERS
HORIZONTAL_RESOLUTION: 1.00000
SECONDARY_HORIZONTAL_DATUM: NAD27
XY_ORIGIN: 395580.00000 5241120.00000
SECONDARY_XY_ORIGIN: 395641.49900 5240906.26500
NATION: US
STATE: MT
NW_QUAD_CORNER_XY: 396076.68900 5240808.75400
NE_QUAD_CORNER_XY: 400800.40900 5240727.30500
SE_QUAD_CORNERY_XY: 400683.49400 5233781.70700
SW_QUAD_CORNER_XY: 395954.20600 5233863.17000
SECONDARY_NW_QUAD_XY: 396073.46500 5240590.11700
SECONDARY_NE_QUAD_XY: 400797.33200 5240508.66500
SECONDARY_SE_QUAD_XY: 400680.41700 5233563.09200
SECONDARY_SW_QUAD_XY: 395950.98200 5233644.55700
RMSE_XY: 2.59000
IMAGE_SOURCE: BLACK AND WHITE FILM
SOURCE_IMAGE_ID: NAPP 8381 115
SOURCE_IMAGE_DATE: 1995 07 28
SOURCE_DEM_DATE: 1998 01 01
AGENCY: WESTERN MAPPING CENTER (WMC)
PRODUCER: ANALYTICAL SURVEYS INC.
PRODUCTION_SYSTEM: ORBIT OR_RECTIFY V.5.2
COMPRESSION: UNDEFINED
STANDARD_VERSION: 1996 12
METADATA_DATE: 1998 12 30
DATA_FILE_SIZE: 42463050
BYTE_COUNT: 5550
