FILENAME: O4711245.SWS.965179.tif
QUADRANGLE_NAME: BEAN LAKE
QUADRANT: SW
WEST_LONGITUDE: -112 30 0.00000
EAST_LONGITUDE: -112 26 15.00000
NORTH_LATITUDE: 47 18 45.00000
SOUTH_LATITUDE: 47 15 0.00000
PRODUCTION_DATE: 1998 12 23
RASTER_ORDER: LEFT_RIGHT/TOP_BOTTOM
BAND_ORGANIZATION: SINGLE FILE
BAND_CONTENT: BLACK&WHITE
BAND_CONTENT: UNDEFINED
BAND_CONTENT: UNDEFINED
BITS_PER_PIXEL: 8
SAMPLES_AND_LINES: 5550 7680
HORIZONTAL_DATUM: NAD83
HORIZONTAL_COORDINATE_SYSTEM: UTM
COORDINATE_ZONE: 12
HORIZONTAL_UNITS: METERS
HORIZONTAL_RESOLUTION: 1.00000
SECONDARY_HORIZONTAL_DATUM: NAD27
XY_ORIGIN: 386130.00000 5241300.00000
SECONDARY_XY_ORIGIN: 386191.74400 5241086.23200
NATION: US
STATE: MT
NW_QUAD_CORNER_XY: 386629.28000 5240983.02100
NE_QUAD_CORNER_XY: 391352.97900 5240893.99300
SE_QUAD_CORNERY_XY: 391224.92600 5233948.42300
SW_QUAD_CORNER_XY: 386495.65700 5234037.46600
SECONDARY_NW_QUAD_XY: 386625.76300 5240764.38900
SECONDARY_NE_QUAD_XY: 391349.60900 5240675.35800
SECONDARY_SE_QUAD_XY: 391221.55600 5233729.81200
SECONDARY_SW_QUAD_XY: 386492.14000 5233818.85900
RMSE_XY: 2.45000
IMAGE_SOURCE: BLACK AND WHITE FILM
SOURCE_IMAGE_ID: NAPP 9486 164
SOURCE_IMAGE_DATE: 1995 08 20
SOURCE_DEM_DATE: 1998 01 01
AGENCY: WESTERN MAPPING CENTER (WMC)
PRODUCER: ANALYTICAL SURVEYS INC.
PRODUCTION_SYSTEM: ORBIT OR_RECTIFY V.5.2
COMPRESSION: UNDEFINED
STANDARD_VERSION: 1996 12
METADATA_DATE: 1999 02 03
DATA_FILE_SIZE: 42629550
BYTE_COUNT: 5550
