FILENAME: O4711244.SES.965166.tif
QUADRANGLE_NAME: STEAMBOAT MOUNTAIN
QUADRANT: SE
WEST_LONGITUDE: -112 33 45.00000
EAST_LONGITUDE: -112 30 0.00000
NORTH_LATITUDE: 47 18 45.00000
SOUTH_LATITUDE: 47 15 0.00000
PRODUCTION_DATE: 1998 12 23
RASTER_ORDER: LEFT_RIGHT/TOP_BOTTOM
BAND_ORGANIZATION: SINGLE FILE
BAND_CONTENT: BLACK&WHITE
BAND_CONTENT: UNDEFINED
BAND_CONTENT: UNDEFINED
BITS_PER_PIXEL: 8
SAMPLES_AND_LINES: 5550 7680
HORIZONTAL_DATUM: NAD83
HORIZONTAL_COORDINATE_SYSTEM: UTM
COORDINATE_ZONE: 12
HORIZONTAL_UNITS: METERS
HORIZONTAL_RESOLUTION: 1.00000
SECONDARY_HORIZONTAL_DATUM: NAD27
XY_ORIGIN: 381390.00000 5241390.00000
SECONDARY_XY_ORIGIN: 381451.83500 5241176.22900
NATION: US
STATE: MT
NW_QUAD_CORNER_XY: 381905.59100 5241075.83900
NE_QUAD_CORNER_XY: 386629.28000 5240983.02100
SE_QUAD_CORNERY_XY: 386495.65700 5234037.46600
SW_QUAD_CORNER_XY: 381766.39800 5234130.30000
SECONDARY_NW_QUAD_XY: 381901.92700 5240857.21000
SECONDARY_NE_QUAD_XY: 386625.76300 5240764.38900
SECONDARY_SE_QUAD_XY: 386492.14000 5233818.85900
SECONDARY_SW_QUAD_XY: 381762.73500 5233911.69500
RMSE_XY: 1.88000
IMAGE_SOURCE: BLACK AND WHITE FILM
SOURCE_IMAGE_ID: NAPP 9486 153
SOURCE_IMAGE_DATE: 1995 08 20
SOURCE_IMAGE_ID: NAPP 8386 23
SOURCE_IMAGE_DATE: 1995 08 05
SOURCE_IMAGE_ID: NAPP 9486 155
SOURCE_IMAGE_DATE: 1995 08 20
SOURCE_DEM_DATE: 1997 00 00
AGENCY: WESTERN MAPPING CENTER (WMC)
PRODUCER: ANALYTICAL SURVEYS INC.
PRODUCTION_SYSTEM: ORBIT OR_RECTIFY V.5.2
COMPRESSION: UNDEFINED
STANDARD_VERSION: 1996 12
METADATA_DATE: 1999 02 03
DATA_FILE_SIZE: 42629550
BYTE_COUNT: 5550
