FILENAME: O4711243.NWS.965153.tif
QUADRANGLE_NAME: JAKIE CREEK
QUADRANT: NW
WEST_LONGITUDE: -112 45 0.00000
EAST_LONGITUDE: -112 41 15.00000
NORTH_LATITUDE: 47 22 30.00000
SOUTH_LATITUDE: 47 18 45.00000
PRODUCTION_DATE: 1998 12 22
RASTER_ORDER: LEFT_RIGHT/TOP_BOTTOM
BAND_ORGANIZATION: SINGLE FILE
BAND_CONTENT: BLACK&WHITE
BAND_CONTENT: UNDEFINED
BAND_CONTENT: UNDEFINED
BITS_PER_PIXEL: 8
SAMPLES_AND_LINES: 5580 7710
HORIZONTAL_DATUM: NAD83
HORIZONTAL_COORDINATE_SYSTEM: UTM
COORDINATE_ZONE: 12
HORIZONTAL_UNITS: METERS
HORIZONTAL_RESOLUTION: 1.00000
SECONDARY_HORIZONTAL_DATUM: NAD27
XY_ORIGIN: 367350.00000 5248650.00000
SECONDARY_XY_ORIGIN: 367412.03200 5248436.15600
NATION: US
STATE: MT
NW_QUAD_CORNER_XY: 367890.65700 5248322.59100
NE_QUAD_CORNER_XY: 372608.73400 5248218.42000
SE_QUAD_CORNERY_XY: 372458.24700 5241272.84600
SW_QUAD_CORNER_XY: 367734.59300 5241377.03500
SECONDARY_NW_QUAD_XY: 367886.55300 5248103.94800
SECONDARY_NE_QUAD_XY: 372604.77700 5247999.77400
SECONDARY_SE_QUAD_XY: 372454.29000 5241054.22300
SECONDARY_SW_QUAD_XY: 367730.49000 5241158.41500
RMSE_XY: 2.85000
IMAGE_SOURCE: BLACK AND WHITE FILM
SOURCE_IMAGE_ID: NAPP 8386 125
SOURCE_IMAGE_DATE: 1995 08 05
SOURCE_IMAGE_ID: NAPP 8386 124
SOURCE_IMAGE_DATE: 1995 08 05
SOURCE_DEM_DATE: 1969 00 00
AGENCY: WESTERN MAPPING CENTER (WMC)
PRODUCER: ANALYTICAL SURVEYS INC.
PRODUCTION_SYSTEM: ORBIT OR_RECTIFY V.5.2
COMPRESSION: UNDEFINED
STANDARD_VERSION: 1996 12
METADATA_DATE: 1999 02 03
DATA_FILE_SIZE: 43027380
BYTE_COUNT: 5580
