FILENAME: O4711242.SES.949834.tif
QUADRANGLE_NAME: SCAPEGOAT MOUNTAIN
QUADRANT: SE
WEST_LONGITUDE: -112 48 45.00000
EAST_LONGITUDE: -112 45 0.00000
NORTH_LATITUDE: 47 18 45.00000
SOUTH_LATITUDE: 47 15 0.00000
PRODUCTION_DATE: 1998 12 18
RASTER_ORDER: LEFT_RIGHT/TOP_BOTTOM
BAND_ORGANIZATION: SINGLE FILE
BAND_CONTENT: BLACK&WHITE
BAND_CONTENT: UNDEFINED
BAND_CONTENT: UNDEFINED
BITS_PER_PIXEL: 8
SAMPLES_AND_LINES: 5580 7710
HORIZONTAL_DATUM: NAD83
HORIZONTAL_COORDINATE_SYSTEM: UTM
COORDINATE_ZONE: 12
HORIZONTAL_UNITS: METERS
HORIZONTAL_RESOLUTION: 1.00000
SECONDARY_HORIZONTAL_DATUM: NAD27
XY_ORIGIN: 362460.00000 5241810.00000
SECONDARY_XY_ORIGIN: 362522.15700 5241596.18100
NATION: US
STATE: MT
NW_QUAD_CORNER_XY: 363010.95200 5241485.01500
NE_QUAD_CORNER_XY: 367734.59300 5241377.03500
SE_QUAD_CORNERY_XY: 367578.68900 5234431.54800
SW_QUAD_CORNER_XY: 362849.47600 5234539.54700
SECONDARY_NW_QUAD_XY: 363006.70200 5241266.39900
SECONDARY_NE_QUAD_XY: 367730.49000 5241158.41500
SECONDARY_SE_QUAD_XY: 367574.58600 5234212.95300
SECONDARY_SW_QUAD_XY: 362845.22700 5234320.95500
RMSE_XY: 2.03000
IMAGE_SOURCE: BLACK AND WHITE FILM
SOURCE_IMAGE_ID: NAPP 9488 19
SOURCE_IMAGE_DATE: 1995 08 27
SOURCE_IMAGE_ID: NAPP 8386 144
SOURCE_IMAGE_DATE: 1995 08 05
SOURCE_DEM_DATE: 1993 00 00
AGENCY: WESTERN MAPPING CENTER (WMC)
PRODUCER: ANALYTICAL SURVEYS INC.
PRODUCTION_SYSTEM: ORBIT OR_RECTIFY V.5.2
COMPRESSION: UNDEFINED
STANDARD_VERSION: 1996 12
METADATA_DATE: 1998 12 28
DATA_FILE_SIZE: 43027380
BYTE_COUNT: 5580
