FILENAME: O4711242.SWS.949835.tif
QUADRANGLE_NAME: SCAPEGOAT MOUNTAIN
QUADRANT: SW
WEST_LONGITUDE: -112 52 30.00000
EAST_LONGITUDE: -112 48 45.00000
NORTH_LATITUDE: 47 18 45.00000
SOUTH_LATITUDE: 47 15 0.00000
PRODUCTION_DATE: 1998 12 18
RASTER_ORDER: LEFT_RIGHT/TOP_BOTTOM
BAND_ORGANIZATION: SINGLE FILE
BAND_CONTENT: BLACK&WHITE
BAND_CONTENT: UNDEFINED
BAND_CONTENT: UNDEFINED
BITS_PER_PIXEL: 8
SAMPLES_AND_LINES: 5580 7680
HORIZONTAL_DATUM: NAD83
HORIZONTAL_COORDINATE_SYSTEM: UTM
COORDINATE_ZONE: 12
HORIZONTAL_UNITS: METERS
HORIZONTAL_RESOLUTION: 1.00000
SECONDARY_HORIZONTAL_DATUM: NAD27
XY_ORIGIN: 357750.00000 5241900.00000
SECONDARY_XY_ORIGIN: 357812.20200 5241686.15200
NATION: US
STATE: MT
NW_QUAD_CORNER_XY: 358287.32400 5241596.78700
NE_QUAD_CORNER_XY: 363010.95200 5241485.01500
SE_QUAD_CORNERY_XY: 362849.47600 5234539.54700
SW_QUAD_CORNER_XY: 358120.27600 5234651.33700
SECONDARY_NW_QUAD_XY: 358282.92700 5241378.17400
SECONDARY_NE_QUAD_XY: 363006.70200 5241266.39900
SECONDARY_SE_QUAD_XY: 362845.22700 5234320.95500
SECONDARY_SW_QUAD_XY: 358115.88000 5234432.74900
RMSE_XY: 2.01000
IMAGE_SOURCE: BLACK AND WHITE FILM
SOURCE_IMAGE_ID: NAPP 9491 68
SOURCE_IMAGE_DATE: 1995 09 01
SOURCE_IMAGE_ID: NAPP 9489 41
SOURCE_IMAGE_DATE: 1995 08 28
SOURCE_IMAGE_ID: NAPP 9491 66
SOURCE_IMAGE_DATE: 1995 09 01
SOURCE_IMAGE_ID: NAPP 9491 67
SOURCE_IMAGE_DATE: 1995 09 01
SOURCE_IMAGE_ID: NAPP 9491 70
SOURCE_IMAGE_DATE: 1995 09 01
SOURCE_DEM_DATE: 1993 00 00
AGENCY: WESTERN MAPPING CENTER (WMC)
PRODUCER: ANALYTICAL SURVEYS INC.
PRODUCTION_SYSTEM: ORBIT OR_RECTIFY V.5.2
COMPRESSION: UNDEFINED
STANDARD_VERSION: 1996 12
METADATA_DATE: 1998 12 28
DATA_FILE_SIZE: 42859980
BYTE_COUNT: 5580
