FILENAME: O4711241.NES.949868.tif
QUADRANGLE_NAME: FLINT MOUNTAIN
QUADRANT: NE
WEST_LONGITUDE: -112 56 15.00000
EAST_LONGITUDE: -112 52 30.00000
NORTH_LATITUDE: 47 22 30.00000
SOUTH_LATITUDE: 47 18 45.00000
PRODUCTION_DATE: 1998 12 18
RASTER_ORDER: LEFT_RIGHT/TOP_BOTTOM
BAND_ORGANIZATION: SINGLE FILE
BAND_CONTENT: BLACK&WHITE
BAND_CONTENT: UNDEFINED
BAND_CONTENT: UNDEFINED
BITS_PER_PIXEL: 8
SAMPLES_AND_LINES: 5580 7710
HORIZONTAL_DATUM: NAD83
HORIZONTAL_COORDINATE_SYSTEM: UTM
COORDINATE_ZONE: 12
HORIZONTAL_UNITS: METERS
HORIZONTAL_RESOLUTION: 1.00000
SECONDARY_HORIZONTAL_DATUM: NAD27
XY_ORIGIN: 353190.00000 5248980.00000
SECONDARY_XY_ORIGIN: 353252.16900 5248766.08600
NATION: US
STATE: MT
NW_QUAD_CORNER_XY: 353736.50400 5248657.84600
NE_QUAD_CORNER_XY: 358454.54100 5248542.30400
SE_QUAD_CORNERY_XY: 358287.32400 5241596.78700
SW_QUAD_CORNER_XY: 353563.70900 5241712.34900
SECONDARY_NW_QUAD_XY: 353731.96000 5248439.21300
SECONDARY_NE_QUAD_XY: 358450.14400 5248323.66700
SECONDARY_SE_QUAD_XY: 358282.92700 5241378.17400
SECONDARY_SW_QUAD_XY: 353559.16600 5241493.74000
RMSE_XY: 3.36000
IMAGE_SOURCE: BLACK AND WHITE FILM
SOURCE_IMAGE_ID: NAPP 9489 39
SOURCE_IMAGE_DATE: 1995 08 28
SOURCE_IMAGE_ID: NAPP 9489 41
SOURCE_IMAGE_DATE: 1995 08 28
SOURCE_IMAGE_ID: NAPP 9489 28
SOURCE_IMAGE_DATE: 1995 08 28
SOURCE_DEM_DATE: 1970 00 00
AGENCY: WESTERN MAPPING CENTER (WMC)
PRODUCER: ANALYTICAL SURVEYS INC.
PRODUCTION_SYSTEM: ORBIT OR_RECTIFY V.5.2
COMPRESSION: UNDEFINED
STANDARD_VERSION: 1996 12
METADATA_DATE: 1998 12 29
DATA_FILE_SIZE: 43027380
BYTE_COUNT: 5580
