FILENAME: O4711240.NES.950400.tif
QUADRANGLE_NAME: BOWMANS CORNERS NE
QUADRANT: NE
WEST_LONGITUDE: -112 3 45.00000
EAST_LONGITUDE: -112 0 0.00000
NORTH_LATITUDE: 47 30 0.00000
SOUTH_LATITUDE: 47 26 15.00000
PRODUCTION_DATE: 1998 12 16
RASTER_ORDER: LEFT_RIGHT/TOP_BOTTOM
BAND_ORGANIZATION: SINGLE FILE
BAND_CONTENT: BLACK&WHITE
BAND_CONTENT: UNDEFINED
BAND_CONTENT: UNDEFINED
BITS_PER_PIXEL: 8
SAMPLES_AND_LINES: 5490 7620
HORIZONTAL_DATUM: NAD83
HORIZONTAL_COORDINATE_SYSTEM: UTM
COORDINATE_ZONE: 12
HORIZONTAL_UNITS: METERS
HORIZONTAL_RESOLUTION: 1.00000
SECONDARY_HORIZONTAL_DATUM: NAD27
XY_ORIGIN: 419520.00000 5261580.00000
SECONDARY_XY_ORIGIN: 419580.55400 5261366.10100
NATION: US
STATE: MT
NW_QUAD_CORNER_XY: 419979.87400 5261276.78700
NE_QUAD_CORNER_XY: 424686.89800 5261214.31800
SE_QUAD_CORNERY_XY: 424597.55500 5254268.43800
SW_QUAD_CORNER_XY: 419884.94600 5254330.91900
SECONDARY_NW_QUAD_XY: 419977.38200 5261058.07000
SECONDARY_NE_QUAD_XY: 424684.55300 5260995.59800
SECONDARY_SE_QUAD_XY: 424595.20900 5254049.74100
SECONDARY_SW_QUAD_XY: 419882.45400 5254112.22400
RMSE_XY: 1.29000
IMAGE_SOURCE: BLACK AND WHITE FILM
SOURCE_IMAGE_ID: NAPP 8387 18
SOURCE_IMAGE_DATE: 1995 08 09
SOURCE_DEM_DATE: 1961 00 00
AGENCY: WESTERN MAPPING CENTER (WMC)
PRODUCER: ANALYTICAL SURVEYS INC.
PRODUCTION_SYSTEM: ORBIT OR_RECTIFY V.5.2
COMPRESSION: UNDEFINED
STANDARD_VERSION: 1996 12
METADATA_DATE: 1998 12 17
DATA_FILE_SIZE: 41839290
BYTE_COUNT: 5490
