FILENAME: O4711240.SES.950402.tif
QUADRANGLE_NAME: BOWMANS CORNERS NE
QUADRANT: SE
WEST_LONGITUDE: -112 3 45.00000
EAST_LONGITUDE: -112 0 0.00000
NORTH_LATITUDE: 47 26 15.00000
SOUTH_LATITUDE: 47 22 30.00000
PRODUCTION_DATE: 1998 12 16
RASTER_ORDER: LEFT_RIGHT/TOP_BOTTOM
BAND_ORGANIZATION: SINGLE FILE
BAND_CONTENT: BLACK&WHITE
BAND_CONTENT: UNDEFINED
BAND_CONTENT: UNDEFINED
BITS_PER_PIXEL: 8
SAMPLES_AND_LINES: 5520 7650
HORIZONTAL_DATUM: NAD83
HORIZONTAL_COORDINATE_SYSTEM: UTM
COORDINATE_ZONE: 12
HORIZONTAL_UNITS: METERS
HORIZONTAL_RESOLUTION: 1.00000
SECONDARY_HORIZONTAL_DATUM: NAD27
XY_ORIGIN: 419400.00000 5254650.00000
SECONDARY_XY_ORIGIN: 419460.63700 5254436.18700
NATION: US
STATE: MT
NW_QUAD_CORNER_XY: 419884.94600 5254330.91900
NE_QUAD_CORNER_XY: 424597.55500 5254268.43800
SE_QUAD_CORNERY_XY: 424508.30200 5247322.63300
SW_QUAD_CORNER_XY: 419790.11300 5247385.12500
SECONDARY_NW_QUAD_XY: 419882.45400 5254112.22400
SECONDARY_NE_QUAD_XY: 424595.20900 5254049.74100
SECONDARY_SE_QUAD_XY: 424505.95700 5247103.95800
SECONDARY_SW_QUAD_XY: 419787.62200 5247166.45200
RMSE_XY: 1.55000
IMAGE_SOURCE: BLACK AND WHITE FILM
SOURCE_IMAGE_ID: NAPP 8387 20
SOURCE_IMAGE_DATE: 1995 08 09
SOURCE_DEM_DATE: 1961 00 00
AGENCY: WESTERN MAPPING CENTER (WMC)
PRODUCER: ANALYTICAL SURVEYS INC.
PRODUCTION_SYSTEM: ORBIT OR_RECTIFY V.5.2
COMPRESSION: UNDEFINED
STANDARD_VERSION: 1996 12
METADATA_DATE: 1998 12 17
DATA_FILE_SIZE: 42233520
BYTE_COUNT: 5520
