FILENAME: O4711239.NWS.950397.tif
QUADRANGLE_NAME: BOWMANS CORNERS NW
QUADRANT: NW
WEST_LONGITUDE: -112 15 0.00000
EAST_LONGITUDE: -112 11 15.00000
NORTH_LATITUDE: 47 30 0.00000
SOUTH_LATITUDE: 47 26 15.00000
PRODUCTION_DATE: 1998 12 16
RASTER_ORDER: LEFT_RIGHT/TOP_BOTTOM
BAND_ORGANIZATION: SINGLE FILE
BAND_CONTENT: BLACK&WHITE
BAND_CONTENT: UNDEFINED
BAND_CONTENT: UNDEFINED
BITS_PER_PIXEL: 8
SAMPLES_AND_LINES: 5520 7650
HORIZONTAL_DATUM: NAD83
HORIZONTAL_COORDINATE_SYSTEM: UTM
COORDINATE_ZONE: 12
HORIZONTAL_UNITS: METERS
HORIZONTAL_RESOLUTION: 1.00000
SECONDARY_HORIZONTAL_DATUM: NAD27
XY_ORIGIN: 405360.00000 5261790.00000
SECONDARY_XY_ORIGIN: 405421.18700 5261575.96300
NATION: US
STATE: MT
NW_QUAD_CORNER_XY: 405858.85400 5261486.91600
NE_QUAD_CORNER_XY: 410565.85100 5261413.08600
SE_QUAD_CORNERY_XY: 410459.75200 5254467.24300
SW_QUAD_CORNER_XY: 405747.16900 5254541.08700
SECONDARY_NW_QUAD_XY: 405855.92200 5261268.20500
SECONDARY_NE_QUAD_XY: 410563.06600 5261194.37300
SECONDARY_SE_QUAD_XY: 410456.96700 5254248.55200
SECONDARY_SW_QUAD_XY: 405744.23700 5254322.39800
RMSE_XY: 1.99000
IMAGE_SOURCE: BLACK AND WHITE FILM
SOURCE_IMAGE_ID: NAPP 8384 20
SOURCE_IMAGE_DATE: 1995 08 04
SOURCE_DEM_DATE: 1977 08 01
AGENCY: WESTERN MAPPING CENTER (WMC)
PRODUCER: ANALYTICAL SURVEYS INC.
PRODUCTION_SYSTEM: ORBIT OR_RECTIFY V.5.2
COMPRESSION: UNDEFINED
STANDARD_VERSION: 1996 12
METADATA_DATE: 1998 12 17
DATA_FILE_SIZE: 42233520
BYTE_COUNT: 5520
