FILENAME: O4711239.SES.950398.tif
QUADRANGLE_NAME: BOWMANS CORNERS NW
QUADRANT: SE
WEST_LONGITUDE: -112 11 15.00000
EAST_LONGITUDE: -112 7 30.00000
NORTH_LATITUDE: 47 26 15.00000
SOUTH_LATITUDE: 47 22 30.00000
PRODUCTION_DATE: 1998 12 16
RASTER_ORDER: LEFT_RIGHT/TOP_BOTTOM
BAND_ORGANIZATION: SINGLE FILE
BAND_CONTENT: BLACK&WHITE
BAND_CONTENT: UNDEFINED
BAND_CONTENT: UNDEFINED
BITS_PER_PIXEL: 8
SAMPLES_AND_LINES: 5520 7650
HORIZONTAL_DATUM: NAD83
HORIZONTAL_COORDINATE_SYSTEM: UTM
COORDINATE_ZONE: 12
HORIZONTAL_UNITS: METERS
HORIZONTAL_RESOLUTION: 1.00000
SECONDARY_HORIZONTAL_DATUM: NAD27
XY_ORIGIN: 409980.00000 5254770.00000
SECONDARY_XY_ORIGIN: 410041.01600 5254556.11300
NATION: US
STATE: MT
NW_QUAD_CORNER_XY: 410459.75200 5254467.24300
NE_QUAD_CORNER_XY: 415172.34500 5254397.18700
SE_QUAD_CORNERY_XY: 415071.93300 5247451.40500
SW_QUAD_CORNER_XY: 410353.76000 5247521.47300
SECONDARY_NW_QUAD_XY: 410456.96700 5254248.55200
SECONDARY_NE_QUAD_XY: 415169.70600 5254178.49400
SECONDARY_SE_QUAD_XY: 415069.29500 5247232.73400
SECONDARY_SW_QUAD_XY: 410350.97600 5247302.80500
RMSE_XY: 3.09000
IMAGE_SOURCE: BLACK AND WHITE FILM
SOURCE_IMAGE_ID: NAPP 8380 42
SOURCE_IMAGE_DATE: 1995 07 01
SOURCE_DEM_DATE: 1977 08 01
AGENCY: WESTERN MAPPING CENTER (WMC)
PRODUCER: ANALYTICAL SURVEYS INC.
PRODUCTION_SYSTEM: ORBIT OR_RECTIFY V.5.2
COMPRESSION: UNDEFINED
STANDARD_VERSION: 1996 12
METADATA_DATE: 1998 12 17
DATA_FILE_SIZE: 42233520
BYTE_COUNT: 5520
