FILENAME: O4711238.SES.950494.tif
QUADRANGLE_NAME: GOUCHNOUR RANCH
QUADRANT: SE
WEST_LONGITUDE: -112 18 45.00000
EAST_LONGITUDE: -112 15 0.00000
NORTH_LATITUDE: 47 26 15.00000
SOUTH_LATITUDE: 47 22 30.00000
PRODUCTION_DATE: 1998 12 18
RASTER_ORDER: LEFT_RIGHT/TOP_BOTTOM
BAND_ORGANIZATION: SINGLE FILE
BAND_CONTENT: BLACK&WHITE
BAND_CONTENT: UNDEFINED
BAND_CONTENT: UNDEFINED
BITS_PER_PIXEL: 8
SAMPLES_AND_LINES: 5520 7650
HORIZONTAL_DATUM: NAD83
HORIZONTAL_COORDINATE_SYSTEM: UTM
COORDINATE_ZONE: 12
HORIZONTAL_UNITS: METERS
HORIZONTAL_RESOLUTION: 1.00000
SECONDARY_HORIZONTAL_DATUM: NAD27
XY_ORIGIN: 400530.00000 5254920.00000
SECONDARY_XY_ORIGIN: 400591.30900 5254706.07300
NATION: US
STATE: MT
NW_QUAD_CORNER_XY: 401034.59500 5254618.71800
NE_QUAD_CORNER_XY: 405747.16900 5254541.08700
SE_QUAD_CORNERY_XY: 405635.59700 5247595.33000
SW_QUAD_CORNER_XY: 400917.44200 5247672.97600
SECONDARY_NW_QUAD_XY: 401031.51600 5254400.03200
SECONDARY_NE_QUAD_XY: 405744.23700 5254322.39800
SECONDARY_SE_QUAD_XY: 405632.66600 5247376.66400
SECONDARY_SW_QUAD_XY: 400914.36500 5247454.31200
RMSE_XY: 1.32000
IMAGE_SOURCE: BLACK AND WHITE FILM
SOURCE_IMAGE_ID: NAPP 8381 7
SOURCE_IMAGE_DATE: 1995 07 28
SOURCE_DEM_DATE: 1998 01 01
AGENCY: WESTERN MAPPING CENTER (WMC)
PRODUCER: ANALYTICAL SURVEYS INC.
PRODUCTION_SYSTEM: ORBIT OR_RECTIFY V.5.2
COMPRESSION: UNDEFINED
STANDARD_VERSION: 1996 12
METADATA_DATE: 1998 12 21
DATA_FILE_SIZE: 42233520
BYTE_COUNT: 5520
