FILENAME: O4711238.SWS.950495.tif
QUADRANGLE_NAME: GOUCHNOUR RANCH
QUADRANT: SW
WEST_LONGITUDE: -112 22 30.00000
EAST_LONGITUDE: -112 18 45.00000
NORTH_LATITUDE: 47 26 15.00000
SOUTH_LATITUDE: 47 22 30.00000
PRODUCTION_DATE: 1998 12 18
RASTER_ORDER: LEFT_RIGHT/TOP_BOTTOM
BAND_ORGANIZATION: SINGLE FILE
BAND_CONTENT: BLACK&WHITE
BAND_CONTENT: UNDEFINED
BAND_CONTENT: UNDEFINED
BITS_PER_PIXEL: 8
SAMPLES_AND_LINES: 5520 7650
HORIZONTAL_DATUM: NAD83
HORIZONTAL_COORDINATE_SYSTEM: UTM
COORDINATE_ZONE: 12
HORIZONTAL_UNITS: METERS
HORIZONTAL_RESOLUTION: 1.00000
SECONDARY_HORIZONTAL_DATUM: NAD27
XY_ORIGIN: 395820.00000 5255010.00000
SECONDARY_XY_ORIGIN: 395881.41000 5254796.07100
NATION: US
STATE: MT
NW_QUAD_CORNER_XY: 396322.03000 5254700.13800
NE_QUAD_CORNER_XY: 401034.59500 5254618.71800
SE_QUAD_CORNERY_XY: 400917.44200 5247672.97600
SW_QUAD_CORNER_XY: 396199.29800 5247754.41000
SECONDARY_NW_QUAD_XY: 396318.80500 5254481.45400
SECONDARY_NE_QUAD_XY: 401031.51600 5254400.03200
SECONDARY_SE_QUAD_XY: 400914.36500 5247454.31200
SECONDARY_SW_QUAD_XY: 396196.07300 5247535.74900
RMSE_XY: 1.87000
IMAGE_SOURCE: BLACK AND WHITE FILM
SOURCE_IMAGE_ID: NAPP 8381 111
SOURCE_IMAGE_DATE: 1995 07 28
SOURCE_DEM_DATE: 1998 01 01
AGENCY: WESTERN MAPPING CENTER (WMC)
PRODUCER: ANALYTICAL SURVEYS INC.
PRODUCTION_SYSTEM: ORBIT OR_RECTIFY V.5.2
COMPRESSION: UNDEFINED
STANDARD_VERSION: 1996 12
METADATA_DATE: 1998 12 21
DATA_FILE_SIZE: 42233520
BYTE_COUNT: 5520
