FILENAME: O4711237.SES.950482.tif
QUADRANGLE_NAME: AUGUSTA
QUADRANT: SE
WEST_LONGITUDE: -112 26 15.00000
EAST_LONGITUDE: -112 22 30.00000
NORTH_LATITUDE: 47 26 15.00000
SOUTH_LATITUDE: 47 22 30.00000
PRODUCTION_DATE: 1998 12 18
RASTER_ORDER: LEFT_RIGHT/TOP_BOTTOM
BAND_ORGANIZATION: SINGLE FILE
BAND_CONTENT: BLACK&WHITE
BAND_CONTENT: UNDEFINED
BAND_CONTENT: UNDEFINED
BITS_PER_PIXEL: 8
SAMPLES_AND_LINES: 5520 7680
HORIZONTAL_DATUM: NAD83
HORIZONTAL_COORDINATE_SYSTEM: UTM
COORDINATE_ZONE: 12
HORIZONTAL_UNITS: METERS
HORIZONTAL_RESOLUTION: 1.00000
SECONDARY_HORIZONTAL_DATUM: NAD27
XY_ORIGIN: 391110.00000 5255100.00000
SECONDARY_XY_ORIGIN: 391171.51100 5254886.07000
NATION: US
STATE: MT
NW_QUAD_CORNER_XY: 391609.47600 5254785.34600
NE_QUAD_CORNER_XY: 396322.03000 5254700.13800
SE_QUAD_CORNERY_XY: 396199.29800 5247754.41000
SW_QUAD_CORNER_XY: 391481.16300 5247839.63400
SECONDARY_NW_QUAD_XY: 391606.10500 5254566.66500
SECONDARY_NE_QUAD_XY: 396318.80500 5254481.45400
SECONDARY_SE_QUAD_XY: 396196.07300 5247535.74900
SECONDARY_SW_QUAD_XY: 391477.79200 5247620.97500
RMSE_XY: 2.74000
IMAGE_SOURCE: BLACK AND WHITE FILM
SOURCE_IMAGE_ID: NAPP 8384 33
SOURCE_IMAGE_DATE: 1995 08 04
SOURCE_IMAGE_ID: NAPP 8381 111
SOURCE_IMAGE_DATE: 1995 07 28
SOURCE_DEM_DATE: 1998 01 01
AGENCY: WESTERN MAPPING CENTER (WMC)
PRODUCER: ANALYTICAL SURVEYS INC.
PRODUCTION_SYSTEM: ORBIT OR_RECTIFY V.5.2
COMPRESSION: UNDEFINED
STANDARD_VERSION: 1996 12
METADATA_DATE: 1998 12 28
DATA_FILE_SIZE: 42399120
BYTE_COUNT: 5520
