FILENAME: O4711236.NES.950449.tif
QUADRANGLE_NAME: NILAN RESERVOIR
QUADRANT: NE
WEST_LONGITUDE: -112 33 45.00000
EAST_LONGITUDE: -112 30 0.00000
NORTH_LATITUDE: 47 30 0.00000
SOUTH_LATITUDE: 47 26 15.00000
PRODUCTION_DATE: 1998 12 17
RASTER_ORDER: LEFT_RIGHT/TOP_BOTTOM
BAND_ORGANIZATION: SINGLE FILE
BAND_CONTENT: BLACK&WHITE
BAND_CONTENT: UNDEFINED
BAND_CONTENT: UNDEFINED
BITS_PER_PIXEL: 8
SAMPLES_AND_LINES: 5550 7680
HORIZONTAL_DATUM: NAD83
HORIZONTAL_COORDINATE_SYSTEM: UTM
COORDINATE_ZONE: 12
HORIZONTAL_UNITS: METERS
HORIZONTAL_RESOLUTION: 1.00000
SECONDARY_HORIZONTAL_DATUM: NAD27
XY_ORIGIN: 381810.00000 5262240.00000
SECONDARY_XY_ORIGIN: 381871.62100 5262026.00300
NATION: US
STATE: MT
NW_QUAD_CORNER_XY: 382324.01800 5261912.87800
NE_QUAD_CORNER_XY: 387030.96300 5261820.11000
SE_QUAD_CORNERY_XY: 386896.93300 5254874.34300
SW_QUAD_CORNER_XY: 382184.40100 5254967.12800
SECONDARY_NW_QUAD_XY: 382320.35300 5261694.18000
SECONDARY_NE_QUAD_XY: 387027.44500 5261601.40900
SECONDARY_SE_QUAD_XY: 386893.41500 5254655.66400
SECONDARY_SW_QUAD_XY: 382180.73700 5254748.45200
RMSE_XY: 2.76000
IMAGE_SOURCE: BLACK AND WHITE FILM
SOURCE_IMAGE_ID: NAPP 9486 159
SOURCE_IMAGE_DATE: 1995 08 20
SOURCE_IMAGE_ID: NAPP 9486 157
SOURCE_IMAGE_DATE: 1995 08 20
SOURCE_DEM_DATE: 1998 01 01
AGENCY: WESTERN MAPPING CENTER (WMC)
PRODUCER: ANALYTICAL SURVEYS INC.
PRODUCTION_SYSTEM: ORBIT OR_RECTIFY V.5.2
COMPRESSION: UNDEFINED
STANDARD_VERSION: 1996 12
METADATA_DATE: 1998 12 18
DATA_FILE_SIZE: 42629550
BYTE_COUNT: 5550
