FILENAME: O4711235.NES.950437.tif
QUADRANGLE_NAME: DOUBLE FALLS
QUADRANT: NE
WEST_LONGITUDE: -112 41 15.00000
EAST_LONGITUDE: -112 37 30.00000
NORTH_LATITUDE: 47 30 0.00000
SOUTH_LATITUDE: 47 26 15.00000
PRODUCTION_DATE: 1998 12 22
RASTER_ORDER: LEFT_RIGHT/TOP_BOTTOM
BAND_ORGANIZATION: SINGLE FILE
BAND_CONTENT: BLACK&WHITE
BAND_CONTENT: UNDEFINED
BAND_CONTENT: UNDEFINED
BITS_PER_PIXEL: 8
SAMPLES_AND_LINES: 5550 7680
HORIZONTAL_DATUM: NAD83
HORIZONTAL_COORDINATE_SYSTEM: UTM
COORDINATE_ZONE: 12
HORIZONTAL_UNITS: METERS
HORIZONTAL_RESOLUTION: 1.00000
SECONDARY_HORIZONTAL_DATUM: NAD27
XY_ORIGIN: 372390.00000 5262420.00000
SECONDARY_XY_ORIGIN: 372451.77800 5262206.03400
NATION: US
STATE: MT
NW_QUAD_CORNER_XY: 372910.16500 5262109.77800
NE_QUAD_CORNER_XY: 377617.08500 5262009.43400
SE_QUAD_CORNERY_XY: 377471.88100 5255063.70100
SW_QUAD_CORNER_XY: 372759.37300 5255164.06400
SECONDARY_NW_QUAD_XY: 372906.20700 5261891.08600
SECONDARY_NE_QUAD_XY: 377613.27400 5261790.73900
SECONDARY_SE_QUAD_XY: 377468.07000 5254845.02900
SECONDARY_SW_QUAD_XY: 372755.41600 5254945.39500
RMSE_XY: 2.13000
IMAGE_SOURCE: BLACK AND WHITE FILM
SOURCE_IMAGE_ID: NAPP 8386 80
SOURCE_IMAGE_DATE: 1995 08 05
SOURCE_IMAGE_ID: NAPP 8386 78
SOURCE_IMAGE_DATE: 1995 08 05
SOURCE_IMAGE_ID: NAPP 8386 82
SOURCE_IMAGE_DATE: 1995 08 05
SOURCE_DEM_DATE: 1997 00 00
AGENCY: WESTERN MAPPING CENTER (WMC)
PRODUCER: ANALYTICAL SURVEYS INC.
PRODUCTION_SYSTEM: ORBIT OR_RECTIFY V.5.2
COMPRESSION: UNDEFINED
STANDARD_VERSION: 1996 12
METADATA_DATE: 1998 12 22
DATA_FILE_SIZE: 42629550
BYTE_COUNT: 5550
