FILENAME: O4711235.SWS.950440.tif
QUADRANGLE_NAME: DOUBLE FALLS
QUADRANT: SW
WEST_LONGITUDE: -112 45 0.00000
EAST_LONGITUDE: -112 41 15.00000
NORTH_LATITUDE: 47 26 15.00000
SOUTH_LATITUDE: 47 22 30.00000
PRODUCTION_DATE: 1998 12 16
RASTER_ORDER: LEFT_RIGHT/TOP_BOTTOM
BAND_ORGANIZATION: SINGLE FILE
BAND_CONTENT: BLACK&WHITE
BAND_CONTENT: UNDEFINED
BAND_CONTENT: UNDEFINED
BITS_PER_PIXEL: 8
SAMPLES_AND_LINES: 5580 7680
HORIZONTAL_DATUM: NAD83
HORIZONTAL_COORDINATE_SYSTEM: UTM
COORDINATE_ZONE: 12
HORIZONTAL_UNITS: METERS
HORIZONTAL_RESOLUTION: 1.00000
SECONDARY_HORIZONTAL_DATUM: NAD27
XY_ORIGIN: 367500.00000 5255580.00000
SECONDARY_XY_ORIGIN: 367561.94500 5255366.10200
NATION: US
STATE: MT
NW_QUAD_CORNER_XY: 368046.87800 5255268.21700
NE_QUAD_CORNER_XY: 372759.37300 5255164.06400
SE_QUAD_CORNERY_XY: 372608.73400 5248218.42000
SW_QUAD_CORNER_XY: 367890.65700 5248322.59100
SECONDARY_NW_QUAD_XY: 368042.77400 5255049.55000
SECONDARY_NE_QUAD_XY: 372755.41600 5254945.39500
SECONDARY_SE_QUAD_XY: 372604.77700 5247999.77400
SECONDARY_SW_QUAD_XY: 367886.55300 5248103.94800
RMSE_XY: 3.33000
IMAGE_SOURCE: BLACK AND WHITE FILM
SOURCE_IMAGE_ID: NAPP 8386 123
SOURCE_IMAGE_DATE: 1995 08 05
SOURCE_IMAGE_ID: NAPP 8386 121
SOURCE_IMAGE_DATE: 1995 08 05
SOURCE_DEM_DATE: 1997 00 00
AGENCY: WESTERN MAPPING CENTER (WMC)
PRODUCER: ANALYTICAL SURVEYS INC.
PRODUCTION_SYSTEM: ORBIT OR_RECTIFY V.5.2
COMPRESSION: UNDEFINED
STANDARD_VERSION: 1996 12
METADATA_DATE: 1998 12 20
DATA_FILE_SIZE: 42859980
BYTE_COUNT: 5580
