FILENAME: O4711234.NES.958292.tif
QUADRANGLE_NAME: WOOD LAKE
QUADRANT: NE
WEST_LONGITUDE: -112 48 45.00000
EAST_LONGITUDE: -112 45 0.00000
NORTH_LATITUDE: 47 30 0.00000
SOUTH_LATITUDE: 47 26 15.00000
PRODUCTION_DATE: 1998 12 11
RASTER_ORDER: LEFT_RIGHT/TOP_BOTTOM
BAND_ORGANIZATION: SINGLE FILE
BAND_CONTENT: BLACK&WHITE
BAND_CONTENT: UNDEFINED
BAND_CONTENT: UNDEFINED
BITS_PER_PIXEL: 8
SAMPLES_AND_LINES: 5580 7680
HORIZONTAL_DATUM: NAD83
HORIZONTAL_COORDINATE_SYSTEM: UTM
COORDINATE_ZONE: 12
HORIZONTAL_UNITS: METERS
HORIZONTAL_RESOLUTION: 1.00000
SECONDARY_HORIZONTAL_DATUM: NAD27
XY_ORIGIN: 362940.00000 5262630.00000
SECONDARY_XY_ORIGIN: 363001.90600 5262416.03600
NATION: US
STATE: MT
NW_QUAD_CORNER_XY: 363496.36400 5262321.83200
NE_QUAD_CORNER_XY: 368203.25800 5262213.91100
SE_QUAD_CORNERY_XY: 368046.87800 5255268.21700
SW_QUAD_CORNER_XY: 363334.39600 5255376.15800
SECONDARY_NW_QUAD_XY: 363492.11300 5262103.14700
SECONDARY_NE_QUAD_XY: 368199.15300 5261995.22200
SECONDARY_SE_QUAD_XY: 368042.77400 5255049.55000
SECONDARY_SW_QUAD_XY: 363330.14500 5255157.49500
RMSE_XY: 3.13700
IMAGE_SOURCE: BLACK AND WHITE FILM
SOURCE_IMAGE_ID: NAPP 8386 152
SOURCE_IMAGE_DATE: 1995 08 05
SOURCE_IMAGE_ID: NAPP 8386 153
SOURCE_IMAGE_DATE: 1995 08 05
SOURCE_DEM_DATE: 1969 00 00
AGENCY: WESTERN MAPPING CENTER (WMC)
PRODUCER: ANALYTICAL SURVEYS INC.
PRODUCTION_SYSTEM: ORBIT OR_RECTIFY V.5.2
COMPRESSION: UNDEFINED
STANDARD_VERSION: 1996 12
METADATA_DATE: 1998 12 16
DATA_FILE_SIZE: 42859980
BYTE_COUNT: 5580
