FILENAME: O4711234.NWS.958293.tif
QUADRANGLE_NAME: WOOD LAKE
QUADRANT: NW
WEST_LONGITUDE: -112 52 30.00000
EAST_LONGITUDE: -112 48 45.00000
NORTH_LATITUDE: 47 30 0.00000
SOUTH_LATITUDE: 47 26 15.00000
PRODUCTION_DATE: 1998 12 11
RASTER_ORDER: LEFT_RIGHT/TOP_BOTTOM
BAND_ORGANIZATION: SINGLE FILE
BAND_CONTENT: BLACK&WHITE
BAND_CONTENT: UNDEFINED
BAND_CONTENT: UNDEFINED
BITS_PER_PIXEL: 8
SAMPLES_AND_LINES: 5580 7680
HORIZONTAL_DATUM: NAD83
HORIZONTAL_COORDINATE_SYSTEM: UTM
COORDINATE_ZONE: 12
HORIZONTAL_UNITS: METERS
HORIZONTAL_RESOLUTION: 1.00000
SECONDARY_HORIZONTAL_DATUM: NAD27
XY_ORIGIN: 358230.00000 5262750.00000
SECONDARY_XY_ORIGIN: 358291.95900 5262536.02500
NATION: US
STATE: MT
NW_QUAD_CORNER_XY: 358789.48500 5262433.54300
NE_QUAD_CORNER_XY: 363496.36400 5262321.83200
SE_QUAD_CORNERY_XY: 363334.39600 5255376.15800
SW_QUAD_CORNER_XY: 358621.92800 5255487.88900
SECONDARY_NW_QUAD_XY: 358785.08600 5262214.86100
SECONDARY_NE_QUAD_XY: 363492.11300 5262103.14700
SECONDARY_SE_QUAD_XY: 363330.14500 5255157.49500
SECONDARY_SW_QUAD_XY: 358617.53000 5255269.23000
RMSE_XY: 1.54300
IMAGE_SOURCE: BLACK AND WHITE FILM
SOURCE_IMAGE_ID: NAPP 9491 62
SOURCE_IMAGE_DATE: 1995 09 01
SOURCE_IMAGE_ID: NAPP 9489 35
SOURCE_IMAGE_DATE: 1995 08 28
SOURCE_IMAGE_ID: NAPP 9491 64
SOURCE_IMAGE_DATE: 1995 09 01
SOURCE_IMAGE_ID: NAPP 8386 152
SOURCE_IMAGE_DATE: 1995 08 05
SOURCE_DEM_DATE: 1969 00 00
AGENCY: WESTERN MAPPING CENTER (WMC)
PRODUCER: ANALYTICAL SURVEYS INC.
PRODUCTION_SYSTEM: ORBIT OR_RECTIFY V.5.2
COMPRESSION: UNDEFINED
STANDARD_VERSION: 1996 12
METADATA_DATE: 1998 12 16
DATA_FILE_SIZE: 42859980
BYTE_COUNT: 5580
