FILENAME: O4711234.SWS.958295.tif
QUADRANGLE_NAME: WOOD LAKE
QUADRANT: SW
WEST_LONGITUDE: -112 52 30.00000
EAST_LONGITUDE: -112 48 45.00000
NORTH_LATITUDE: 47 26 15.00000
SOUTH_LATITUDE: 47 22 30.00000
PRODUCTION_DATE: 1998 12 11
RASTER_ORDER: LEFT_RIGHT/TOP_BOTTOM
BAND_ORGANIZATION: SINGLE FILE
BAND_CONTENT: BLACK&WHITE
BAND_CONTENT: UNDEFINED
BAND_CONTENT: UNDEFINED
BITS_PER_PIXEL: 8
SAMPLES_AND_LINES: 5580 7680
HORIZONTAL_DATUM: NAD83
HORIZONTAL_COORDINATE_SYSTEM: UTM
COORDINATE_ZONE: 12
HORIZONTAL_UNITS: METERS
HORIZONTAL_RESOLUTION: 1.00000
SECONDARY_HORIZONTAL_DATUM: NAD27
XY_ORIGIN: 358080.00000 5255790.00000
SECONDARY_XY_ORIGIN: 358142.04000 5255576.06700
NATION: US
STATE: MT
NW_QUAD_CORNER_XY: 358621.92800 5255487.88900
NE_QUAD_CORNER_XY: 363334.39600 5255376.15800
SE_QUAD_CORNERY_XY: 363172.59200 5248430.55300
SW_QUAD_CORNER_XY: 358454.54100 5248542.30400
SECONDARY_NW_QUAD_XY: 358617.53000 5255269.23000
SECONDARY_NE_QUAD_XY: 363330.14500 5255157.49500
SECONDARY_SE_QUAD_XY: 363168.34200 5248211.91200
SECONDARY_SW_QUAD_XY: 358450.14400 5248323.66700
RMSE_XY: 2.31900
IMAGE_SOURCE: BLACK AND WHITE FILM
SOURCE_IMAGE_ID: NAPP 9491 64
SOURCE_IMAGE_DATE: 1995 09 01
SOURCE_IMAGE_ID: NAPP 9491 63
SOURCE_IMAGE_DATE: 1995 09 01
SOURCE_DEM_DATE: 1969 00 00
AGENCY: WESTERN MAPPING CENTER (WMC)
PRODUCER: ANALYTICAL SURVEYS INC.
PRODUCTION_SYSTEM: ORBIT OR_RECTIFY V.5.2
COMPRESSION: UNDEFINED
STANDARD_VERSION: 1996 12
METADATA_DATE: 1998 12 16
DATA_FILE_SIZE: 42859980
BYTE_COUNT: 5580
