FILENAME: O4711233.NWS.958269.tif
QUADRANGLE_NAME: BENCHMARK
QUADRANT: NW
WEST_LONGITUDE: -113 0 0.00000
EAST_LONGITUDE: -112 56 15.00000
NORTH_LATITUDE: 47 30 0.00000
SOUTH_LATITUDE: 47 26 15.00000
PRODUCTION_DATE: 1998 12 11
RASTER_ORDER: LEFT_RIGHT/TOP_BOTTOM
BAND_ORGANIZATION: SINGLE FILE
BAND_CONTENT: BLACK&WHITE
BAND_CONTENT: UNDEFINED
BAND_CONTENT: UNDEFINED
BITS_PER_PIXEL: 8
SAMPLES_AND_LINES: 5580 7710
HORIZONTAL_DATUM: NAD83
HORIZONTAL_COORDINATE_SYSTEM: UTM
COORDINATE_ZONE: 12
HORIZONTAL_UNITS: METERS
HORIZONTAL_RESOLUTION: 1.00000
SECONDARY_HORIZONTAL_DATUM: NAD27
XY_ORIGIN: 348810.00000 5262990.00000
SECONDARY_XY_ORIGIN: 348872.06700 5262776.00300
NATION: US
STATE: MT
NW_QUAD_CORNER_XY: 349375.76900 5262668.33200
NE_QUAD_CORNER_XY: 354082.61900 5262549.04200
SE_QUAD_CORNERY_XY: 353909.47400 5255603.41100
SW_QUAD_CORNER_XY: 349197.03500 5255722.72200
SECONDARY_NW_QUAD_XY: 349371.07800 5262449.65700
SECONDARY_NE_QUAD_XY: 354078.07500 5262330.36400
SECONDARY_SE_QUAD_XY: 353904.93000 5255384.75500
SECONDARY_SW_QUAD_XY: 349192.34400 5255504.07000
RMSE_XY: 4.66800
IMAGE_SOURCE: BLACK AND WHITE FILM
SOURCE_IMAGE_ID: NAPP 9489 32
SOURCE_IMAGE_DATE: 1995 08 28
SOURCE_IMAGE_ID: NAPP 9489 33
SOURCE_IMAGE_DATE: 1995 08 28
SOURCE_IMAGE_ID: NAPP 9489 35
SOURCE_IMAGE_DATE: 1995 08 28
SOURCE_DEM_DATE: 1988 00 00
AGENCY: WESTERN MAPPING CENTER (WMC)
PRODUCER: ANALYTICAL SURVEYS INC.
PRODUCTION_SYSTEM: ORBIT OR_RECTIFY V.5.2
COMPRESSION: UNDEFINED
STANDARD_VERSION: 1996 12
METADATA_DATE: 1998 12 16
DATA_FILE_SIZE: 43027380
BYTE_COUNT: 5580
