FILENAME: O4711233.SES.958270.tif
QUADRANGLE_NAME: BENCHMARK
QUADRANT: SE
WEST_LONGITUDE: -112 56 15.00000
EAST_LONGITUDE: -112 52 30.00000
NORTH_LATITUDE: 47 26 15.00000
SOUTH_LATITUDE: 47 22 30.00000
PRODUCTION_DATE: 1998 12 11
RASTER_ORDER: LEFT_RIGHT/TOP_BOTTOM
BAND_ORGANIZATION: SINGLE FILE
BAND_CONTENT: BLACK&WHITE
BAND_CONTENT: UNDEFINED
BAND_CONTENT: UNDEFINED
BITS_PER_PIXEL: 8
SAMPLES_AND_LINES: 5610 7680
HORIZONTAL_DATUM: NAD83
HORIZONTAL_COORDINATE_SYSTEM: UTM
COORDINATE_ZONE: 12
HORIZONTAL_UNITS: METERS
HORIZONTAL_RESOLUTION: 1.00000
SECONDARY_HORIZONTAL_DATUM: NAD27
XY_ORIGIN: 353340.00000 5255910.00000
SECONDARY_XY_ORIGIN: 353402.09100 5255696.04900
NATION: US
STATE: MT
NW_QUAD_CORNER_XY: 353909.47400 5255603.41100
NE_QUAD_CORNER_XY: 358621.92800 5255487.88900
SE_QUAD_CORNERY_XY: 358454.54100 5248542.30400
SW_QUAD_CORNER_XY: 353736.50400 5248657.84600
SECONDARY_NW_QUAD_XY: 353904.93000 5255384.75500
SECONDARY_NE_QUAD_XY: 358617.53000 5255269.23000
SECONDARY_SE_QUAD_XY: 358450.14400 5248323.66700
SECONDARY_SW_QUAD_XY: 353731.96000 5248439.21300
RMSE_XY: 2.32900
IMAGE_SOURCE: BLACK AND WHITE FILM
SOURCE_IMAGE_ID: NAPP 9489 37
SOURCE_IMAGE_DATE: 1995 08 28
SOURCE_IMAGE_ID: NAPP 9489 30
SOURCE_IMAGE_DATE: 1995 08 28
SOURCE_IMAGE_ID: NAPP 9491 64
SOURCE_IMAGE_DATE: 1995 09 01
SOURCE_DEM_DATE: 1988 00 00
AGENCY: WESTERN MAPPING CENTER (WMC)
PRODUCER: ANALYTICAL SURVEYS INC.
PRODUCTION_SYSTEM: ORBIT OR_RECTIFY V.5.2
COMPRESSION: UNDEFINED
STANDARD_VERSION: 1996 12
METADATA_DATE: 1998 12 16
DATA_FILE_SIZE: 43090410
BYTE_COUNT: 5610
