FILENAME: O4711232.NES.727464.tif
QUADRANGLE_NAME: LOWRY
QUADRANT: NE
WEST_LONGITUDE: -112 3 45.00000
EAST_LONGITUDE: -112 0 0.00000
NORTH_LATITUDE: 47 37 30.00000
SOUTH_LATITUDE: 47 33 45.00000
PRODUCTION_DATE: 1997 8 11
RASTER_ORDER: LEFT_RIGHT/TOP_BOTTOM
BAND_ORGANIZATION: SINGLE FILE
BAND_CONTENT: BLACK&WHITE
BAND_CONTENT: UNDEFINED
BAND_CONTENT: UNDEFINED
BITS_PER_PIXEL: 8
SAMPLES_AND_LINES: 5454 7613
HORIZONTAL_DATUM: NAD83
HORIZONTAL_COORDINATE_SYSTEM: UTM
COORDINATE_ZONE: 12
HORIZONTAL_UNITS: METERS
HORIZONTAL_RESOLUTION: 1.00000
SECONDARY_HORIZONTAL_DATUM: NAD27
XY_ORIGIN: 419712.28800 5275468.24400
SECONDARY_XY_ORIGIN: 419772.99300 5275254.09000
NATION: US
STATE: MT
NW_QUAD_CORNER_XY: 420170.01900 5275168.74400
NE_QUAD_CORNER_XY: 424865.85600 5275106.29900
SE_QUAD_CORNERY_XY: 424776.33200 5268160.27200
SW_QUAD_CORNER_XY: 420074.89900 5268222.72900
SECONDARY_NW_QUAD_XY: 420167.52600 5274949.98500
SECONDARY_NE_QUAD_XY: 424863.51000 5274887.53800
SECONDARY_SE_QUAD_XY: 424773.98600 5267941.53100
SECONDARY_SW_QUAD_XY: 420072.40600 5268003.99000
RMSE_XY: 1.10000
IMAGE_SOURCE: BLACK AND WHITE FILM
SOURCE_IMAGE_ID: NAPP 8387 14
SOURCE_IMAGE_DATE: 1995 8 9
SOURCE_DEM_DATE: 1997 8 11
AGENCY: WESTERN MAPPING CENTER (WMC)
PRODUCER: Nies Mapping Group
PRODUCTION_SYSTEM: INTERGRAPH- ISPM,ISIR
COMPRESSION: UNDEFINED
STANDARD_VERSION: 1996 12
METADATA_DATE: 1997 12 30
DATA_FILE_SIZE: 41526756
BYTE_COUNT: 5454
