FILENAME: O4711232.SWS.727467.tif
QUADRANGLE_NAME: LOWRY
QUADRANT: SW
WEST_LONGITUDE: -112 7 30.00000
EAST_LONGITUDE: -112 3 45.00000
NORTH_LATITUDE: 47 33 45.00000
SOUTH_LATITUDE: 47 30 0.00000
PRODUCTION_DATE: 1997 8 11
RASTER_ORDER: LEFT_RIGHT/TOP_BOTTOM
BAND_ORGANIZATION: SINGLE FILE
BAND_CONTENT: BLACK&WHITE
BAND_CONTENT: UNDEFINED
BAND_CONTENT: UNDEFINED
BITS_PER_PIXEL: 8
SAMPLES_AND_LINES: 5465 7617
HORIZONTAL_DATUM: NAD83
HORIZONTAL_COORDINATE_SYSTEM: UTM
COORDINATE_ZONE: 12
HORIZONTAL_UNITS: METERS
HORIZONTAL_RESOLUTION: 1.00000
SECONDARY_HORIZONTAL_DATUM: NAD27
XY_ORIGIN: 414909.96400 5268588.47300
SECONDARY_XY_ORIGIN: 414970.78800 5268374.40700
NATION: US
STATE: MT
NW_QUAD_CORNER_XY: 415373.47400 5268288.97300
NE_QUAD_CORNER_XY: 420074.89900 5268222.72900
SE_QUAD_CORNERY_XY: 419979.87400 5261276.78800
SW_QUAD_CORNER_XY: 415272.85900 5261343.04400
SECONDARY_NW_QUAD_XY: 415370.83500 5268070.23600
SECONDARY_NE_QUAD_XY: 420072.40600 5268003.99000
SECONDARY_SE_QUAD_XY: 419977.38200 5261058.07000
SECONDARY_SW_QUAD_XY: 415270.22000 5261124.32800
RMSE_XY: 1.30000
IMAGE_SOURCE: BLACK AND WHITE FILM
SOURCE_IMAGE_ID: NAPP 8387 35
SOURCE_IMAGE_DATE: 1995 8 9
SOURCE_DEM_DATE: 1997 8 11
AGENCY: WESTERN MAPPING CENTER (WMC)
PRODUCER: Nies Mapping Group
PRODUCTION_SYSTEM: INTERGRAPH- ISPM,ISIR
COMPRESSION: UNDEFINED
STANDARD_VERSION: 1996 12
METADATA_DATE: 1997 12 30
DATA_FILE_SIZE: 41632370
BYTE_COUNT: 5465
