FILENAME: O4711231.SES.727498.tif
QUADRANGLE_NAME: GOLDEN RIDGE
QUADRANT: SE
WEST_LONGITUDE: -112 11 15.00000
EAST_LONGITUDE: -112 7 30.00000
NORTH_LATITUDE: 47 33 45.00000
SOUTH_LATITUDE: 47 30 0.00000
PRODUCTION_DATE: 1997 8 11
RASTER_ORDER: LEFT_RIGHT/TOP_BOTTOM
BAND_ORGANIZATION: SINGLE FILE
BAND_CONTENT: BLACK&WHITE
BAND_CONTENT: UNDEFINED
BAND_CONTENT: UNDEFINED
BITS_PER_PIXEL: 8
SAMPLES_AND_LINES: 5471 7621
HORIZONTAL_DATUM: NAD83
HORIZONTAL_COORDINATE_SYSTEM: UTM
COORDINATE_ZONE: 12
HORIZONTAL_UNITS: METERS
HORIZONTAL_RESOLUTION: 1.00000
SECONDARY_HORIZONTAL_DATUM: NAD27
XY_ORIGIN: 410202.60000 5268658.50200
SECONDARY_XY_ORIGIN: 410263.61100 5268444.39900
NATION: US
STATE: MT
NW_QUAD_CORNER_XY: 410672.05800 5268359.00200
NE_QUAD_CORNER_XY: 415373.47400 5268288.97300
SE_QUAD_CORNERY_XY: 415272.85900 5261343.04400
SW_QUAD_CORNER_XY: 410565.85100 5261413.08700
SECONDARY_NW_QUAD_XY: 410669.27200 5268140.26800
SECONDARY_NE_QUAD_XY: 415370.83500 5268070.23600
SECONDARY_SE_QUAD_XY: 415270.22000 5261124.32800
SECONDARY_SW_QUAD_XY: 410563.06600 5261194.37300
RMSE_XY: 0.70000
IMAGE_SOURCE: BLACK AND WHITE FILM
SOURCE_IMAGE_ID: NAPP 8380 46
SOURCE_IMAGE_DATE: 1995 7 1
SOURCE_DEM_DATE: 1997 8 11
AGENCY: WESTERN MAPPING CENTER (WMC)
PRODUCER: Nies Mapping Group
PRODUCTION_SYSTEM: INTERGRAPH- ISPM,ISIR
COMPRESSION: UNDEFINED
STANDARD_VERSION: 1996 12
METADATA_DATE: 1997 12 30
DATA_FILE_SIZE: 41699962
BYTE_COUNT: 5471
