FILENAME: O4711231.SWS.727499.tif
QUADRANGLE_NAME: GOLDEN RIDGE
QUADRANT: SW
WEST_LONGITUDE: -112 15 0.00000
EAST_LONGITUDE: -112 11 15.00000
NORTH_LATITUDE: 47 33 45.00000
SOUTH_LATITUDE: 47 30 0.00000
PRODUCTION_DATE: 1997 8 11
RASTER_ORDER: LEFT_RIGHT/TOP_BOTTOM
BAND_ORGANIZATION: SINGLE FILE
BAND_CONTENT: BLACK&WHITE
BAND_CONTENT: UNDEFINED
BAND_CONTENT: UNDEFINED
BITS_PER_PIXEL: 8
SAMPLES_AND_LINES: 5477 7624
HORIZONTAL_DATUM: NAD83
HORIZONTAL_COORDINATE_SYSTEM: UTM
COORDINATE_ZONE: 12
HORIZONTAL_UNITS: METERS
HORIZONTAL_RESOLUTION: 1.00000
SECONDARY_HORIZONTAL_DATUM: NAD27
XY_ORIGIN: 405495.24700 5268732.31800
SECONDARY_XY_ORIGIN: 405556.43600 5268518.18100
NATION: US
STATE: MT
NW_QUAD_CORNER_XY: 405970.65100 5268432.81800
NE_QUAD_CORNER_XY: 410672.05800 5268359.00200
SE_QUAD_CORNERY_XY: 410565.85100 5261413.08700
SW_QUAD_CORNER_XY: 405858.85400 5261486.91700
SECONDARY_NW_QUAD_XY: 405967.71900 5268214.08600
SECONDARY_NE_QUAD_XY: 410669.27200 5268140.26800
SECONDARY_SE_QUAD_XY: 410563.06600 5261194.37300
SECONDARY_SW_QUAD_XY: 405855.92200 5261268.20600
RMSE_XY: 1.30000
IMAGE_SOURCE: BLACK AND WHITE FILM
SOURCE_IMAGE_ID: NAPP 8384 18
SOURCE_IMAGE_DATE: 1995 8 4
SOURCE_DEM_DATE: 1997 8 11
AGENCY: WESTERN MAPPING CENTER (WMC)
PRODUCER: Nies Mapping Group
PRODUCTION_SYSTEM: INTERGRAPH- ISPM,ISIR
COMPRESSION: UNDEFINED
STANDARD_VERSION: 1996 12
METADATA_DATE: 1997 12 30
DATA_FILE_SIZE: 41762125
BYTE_COUNT: 5477
