FILENAME: O4711230.NWS.950489.tif
QUADRANGLE_NAME: GILMAN
QUADRANT: NW
WEST_LONGITUDE: -112 22 30.00000
EAST_LONGITUDE: -112 18 45.00000
NORTH_LATITUDE: 47 37 30.00000
SOUTH_LATITUDE: 47 33 45.00000
PRODUCTION_DATE: 1998 12 18
RASTER_ORDER: LEFT_RIGHT/TOP_BOTTOM
BAND_ORGANIZATION: SINGLE FILE
BAND_CONTENT: BLACK&WHITE
BAND_CONTENT: UNDEFINED
BAND_CONTENT: UNDEFINED
BITS_PER_PIXEL: 8
SAMPLES_AND_LINES: 5520 7680
HORIZONTAL_DATUM: NAD83
HORIZONTAL_COORDINATE_SYSTEM: UTM
COORDINATE_ZONE: 12
HORIZONTAL_UNITS: METERS
HORIZONTAL_RESOLUTION: 1.00000
SECONDARY_HORIZONTAL_DATUM: NAD27
XY_ORIGIN: 396180.00000 5275860.00000
SECONDARY_XY_ORIGIN: 396241.33700 5275645.78400
NATION: US
STATE: MT
NW_QUAD_CORNER_XY: 396690.97300 5275537.75200
NE_QUAD_CORNER_XY: 401386.76200 5275456.37900
SE_QUAD_CORNERY_XY: 401269.25500 5268510.42000
SW_QUAD_CORNER_XY: 396567.86800 5268591.80900
SECONDARY_NW_QUAD_XY: 396687.74700 5275319.00400
SECONDARY_NE_QUAD_XY: 401383.68300 5275237.62900
SECONDARY_SE_QUAD_XY: 401266.17600 5268291.69000
SECONDARY_SW_QUAD_XY: 396564.64300 5268373.08200
RMSE_XY: 1.59000
IMAGE_SOURCE: BLACK AND WHITE FILM
SOURCE_IMAGE_ID: NAPP 8381 105
SOURCE_IMAGE_DATE: 1995 07 28
SOURCE_DEM_DATE: 1987 00 00
AGENCY: WESTERN MAPPING CENTER (WMC)
PRODUCER: ANALYTICAL SURVEYS INC.
PRODUCTION_SYSTEM: ORBIT OR_RECTIFY V.5.2
COMPRESSION: UNDEFINED
STANDARD_VERSION: 1996 12
METADATA_DATE: 1998 12 21
DATA_FILE_SIZE: 42399120
BYTE_COUNT: 5520
