FILENAME: O4711230.SES.950490.tif
QUADRANGLE_NAME: GILMAN
QUADRANT: SE
WEST_LONGITUDE: -112 18 45.00000
EAST_LONGITUDE: -112 15 0.00000
NORTH_LATITUDE: 47 33 45.00000
SOUTH_LATITUDE: 47 30 0.00000
PRODUCTION_DATE: 1998 12 18
RASTER_ORDER: LEFT_RIGHT/TOP_BOTTOM
BAND_ORGANIZATION: SINGLE FILE
BAND_CONTENT: BLACK&WHITE
BAND_CONTENT: UNDEFINED
BAND_CONTENT: UNDEFINED
BITS_PER_PIXEL: 8
SAMPLES_AND_LINES: 5520 7680
HORIZONTAL_DATUM: NAD83
HORIZONTAL_COORDINATE_SYSTEM: UTM
COORDINATE_ZONE: 12
HORIZONTAL_UNITS: METERS
HORIZONTAL_RESOLUTION: 1.00000
SECONDARY_HORIZONTAL_DATUM: NAD27
XY_ORIGIN: 400770.00000 5268840.00000
SECONDARY_XY_ORIGIN: 400831.27200 5268625.87100
NATION: US
STATE: MT
NW_QUAD_CORNER_XY: 401269.25500 5268510.42000
NE_QUAD_CORNER_XY: 405970.65100 5268432.81800
SE_QUAD_CORNERY_XY: 405858.85400 5261486.91600
SW_QUAD_CORNER_XY: 401151.86500 5261564.53300
SECONDARY_NW_QUAD_XY: 401266.17600 5268291.69000
SECONDARY_NE_QUAD_XY: 405967.71900 5268214.08500
SECONDARY_SE_QUAD_XY: 405855.92200 5261268.20500
SECONDARY_SW_QUAD_XY: 401148.78700 5261345.82500
RMSE_XY: 0.70000
IMAGE_SOURCE: BLACK AND WHITE FILM
SOURCE_IMAGE_ID: NAPP 8381 11
SOURCE_IMAGE_DATE: 1995 07 28
SOURCE_DEM_DATE: 1987 00 00
AGENCY: WESTERN MAPPING CENTER (WMC)
PRODUCER: ANALYTICAL SURVEYS INC.
PRODUCTION_SYSTEM: ORBIT OR_RECTIFY V.5.2
COMPRESSION: UNDEFINED
STANDARD_VERSION: 1996 12
METADATA_DATE: 1998 12 21
DATA_FILE_SIZE: 42399120
BYTE_COUNT: 5520
