FILENAME: O4711230.SWS.950491.tif
QUADRANGLE_NAME: GILMAN
QUADRANT: SW
WEST_LONGITUDE: -112 22 30.00000
EAST_LONGITUDE: -112 18 45.00000
NORTH_LATITUDE: 47 33 45.00000
SOUTH_LATITUDE: 47 30 0.00000
PRODUCTION_DATE: 1998 12 18
RASTER_ORDER: LEFT_RIGHT/TOP_BOTTOM
BAND_ORGANIZATION: SINGLE FILE
BAND_CONTENT: BLACK&WHITE
BAND_CONTENT: UNDEFINED
BAND_CONTENT: UNDEFINED
BITS_PER_PIXEL: 8
SAMPLES_AND_LINES: 5520 7650
HORIZONTAL_DATUM: NAD83
HORIZONTAL_COORDINATE_SYSTEM: UTM
COORDINATE_ZONE: 12
HORIZONTAL_UNITS: METERS
HORIZONTAL_RESOLUTION: 1.00000
SECONDARY_HORIZONTAL_DATUM: NAD27
XY_ORIGIN: 396060.00000 5268900.00000
SECONDARY_XY_ORIGIN: 396121.35200 5268685.88000
NATION: US
STATE: MT
NW_QUAD_CORNER_XY: 396567.86800 5268591.80900
NE_QUAD_CORNER_XY: 401269.25500 5268510.42000
SE_QUAD_CORNERY_XY: 401151.86500 5261564.53300
SW_QUAD_CORNER_XY: 396444.88700 5261645.93800
SECONDARY_NW_QUAD_XY: 396564.64300 5268373.08200
SECONDARY_NE_QUAD_XY: 401266.17600 5268291.69000
SECONDARY_SE_QUAD_XY: 401148.78700 5261345.82500
SECONDARY_SW_QUAD_XY: 396441.66200 5261427.23200
RMSE_XY: 1.76000
IMAGE_SOURCE: BLACK AND WHITE FILM
SOURCE_IMAGE_ID: NAPP 8381 107
SOURCE_IMAGE_DATE: 1995 07 28
SOURCE_DEM_DATE: 1987 00 00
AGENCY: WESTERN MAPPING CENTER (WMC)
PRODUCER: ANALYTICAL SURVEYS INC.
PRODUCTION_SYSTEM: ORBIT OR_RECTIFY V.5.2
COMPRESSION: UNDEFINED
STANDARD_VERSION: 1996 12
METADATA_DATE: 1998 12 21
DATA_FILE_SIZE: 42233520
BYTE_COUNT: 5520
