FILENAME: O4711229.NES.950476.tif
QUADRANGLE_NAME: SPLIT ROCK JUNCTION
QUADRANT: NE
WEST_LONGITUDE: -112 26 15.00000
EAST_LONGITUDE: -112 22 30.00000
NORTH_LATITUDE: 47 37 30.00000
SOUTH_LATITUDE: 47 33 45.00000
PRODUCTION_DATE: 1998 12 18
RASTER_ORDER: LEFT_RIGHT/TOP_BOTTOM
BAND_ORGANIZATION: SINGLE FILE
BAND_CONTENT: BLACK&WHITE
BAND_CONTENT: UNDEFINED
BAND_CONTENT: UNDEFINED
BITS_PER_PIXEL: 8
SAMPLES_AND_LINES: 5520 7680
HORIZONTAL_DATUM: NAD83
HORIZONTAL_COORDINATE_SYSTEM: UTM
COORDINATE_ZONE: 12
HORIZONTAL_UNITS: METERS
HORIZONTAL_RESOLUTION: 1.00000
SECONDARY_HORIZONTAL_DATUM: NAD27
XY_ORIGIN: 391500.00000 5275950.00000
SECONDARY_XY_ORIGIN: 391561.40600 5275735.79500
NATION: US
STATE: MT
NW_QUAD_CORNER_XY: 391995.19600 5275622.91100
NE_QUAD_CORNER_XY: 396690.97300 5275537.75200
SE_QUAD_CORNERY_XY: 396567.86800 5268591.80900
SW_QUAD_CORNER_XY: 391866.49300 5268676.98500
SECONDARY_NW_QUAD_XY: 391991.82300 5275404.16600
SECONDARY_NE_QUAD_XY: 396687.74700 5275319.00400
SECONDARY_SE_QUAD_XY: 396564.64300 5268373.08200
SECONDARY_SW_QUAD_XY: 391863.12100 5268458.26000
RMSE_XY: 2.04000
IMAGE_SOURCE: BLACK AND WHITE FILM
SOURCE_IMAGE_ID: NAPP 8384 39
SOURCE_IMAGE_DATE: 1995 08 04
SOURCE_DEM_DATE: 1986 00 00
AGENCY: WESTERN MAPPING CENTER (WMC)
PRODUCER: ANALYTICAL SURVEYS INC.
PRODUCTION_SYSTEM: ORBIT OR_RECTIFY V.5.2
COMPRESSION: UNDEFINED
STANDARD_VERSION: 1996 12
METADATA_DATE: 1998 12 28
DATA_FILE_SIZE: 42399120
BYTE_COUNT: 5520
