FILENAME: O4711226.SWS.958291.tif
QUADRANGLE_NAME: PATRICKS BASIN
QUADRANT: SW
WEST_LONGITUDE: -112 52 30.00000
EAST_LONGITUDE: -112 48 45.00000
NORTH_LATITUDE: 47 33 45.00000
SOUTH_LATITUDE: 47 30 0.00000
PRODUCTION_DATE: 1998 12 11
RASTER_ORDER: LEFT_RIGHT/TOP_BOTTOM
BAND_ORGANIZATION: SINGLE FILE
BAND_CONTENT: BLACK&WHITE
BAND_CONTENT: UNDEFINED
BAND_CONTENT: UNDEFINED
BITS_PER_PIXEL: 8
SAMPLES_AND_LINES: 5550 7680
HORIZONTAL_DATUM: NAD83
HORIZONTAL_COORDINATE_SYSTEM: UTM
COORDINATE_ZONE: 12
HORIZONTAL_UNITS: METERS
HORIZONTAL_RESOLUTION: 1.00000
SECONDARY_HORIZONTAL_DATUM: NAD27
XY_ORIGIN: 358410.00000 5269680.00000
SECONDARY_XY_ORIGIN: 358471.94800 5269465.96900
NATION: US
STATE: MT
NW_QUAD_CORNER_XY: 358957.21000 5269379.26400
NE_QUAD_CORNER_XY: 363658.49600 5269267.57500
SE_QUAD_CORNERY_XY: 363496.36400 5262321.83200
SW_QUAD_CORNER_XY: 358789.48500 5262433.54300
SECONDARY_NW_QUAD_XY: 358952.81200 5269160.56100
SECONDARY_NE_QUAD_XY: 363654.24400 5269048.86900
SECONDARY_SE_QUAD_XY: 363492.11300 5262103.14700
SECONDARY_SW_QUAD_XY: 358785.08600 5262214.86100
RMSE_XY: 2.96000
IMAGE_SOURCE: BLACK AND WHITE FILM
SOURCE_IMAGE_ID: NAPP 9491 60
SOURCE_IMAGE_DATE: 1995 09 01
SOURCE_IMAGE_ID: NAPP 9491 62
SOURCE_IMAGE_DATE: 1995 09 01
SOURCE_DEM_DATE: 1955 00 00
AGENCY: WESTERN MAPPING CENTER (WMC)
PRODUCER: ANALYTICAL SURVEYS INC.
PRODUCTION_SYSTEM: ORBIT OR_RECTIFY V.5.2
COMPRESSION: UNDEFINED
STANDARD_VERSION: 1996 12
METADATA_DATE: 1998 12 16
DATA_FILE_SIZE: 42629550
BYTE_COUNT: 5550
