FILENAME: O4711225.SES.958266.tif
QUADRANGLE_NAME: PRETTY PRAIRIE
QUADRANT: SE
WEST_LONGITUDE: -112 56 15.00000
EAST_LONGITUDE: -112 52 30.00000
NORTH_LATITUDE: 47 33 45.00000
SOUTH_LATITUDE: 47 30 0.00000
PRODUCTION_DATE: 1998 12 11
RASTER_ORDER: LEFT_RIGHT/TOP_BOTTOM
BAND_ORGANIZATION: SINGLE FILE
BAND_CONTENT: BLACK&WHITE
BAND_CONTENT: UNDEFINED
BAND_CONTENT: UNDEFINED
BITS_PER_PIXEL: 8
SAMPLES_AND_LINES: 5580 7680
HORIZONTAL_DATUM: NAD83
HORIZONTAL_COORDINATE_SYSTEM: UTM
COORDINATE_ZONE: 12
HORIZONTAL_UNITS: METERS
HORIZONTAL_RESOLUTION: 1.00000
SECONDARY_HORIZONTAL_DATUM: NAD27
XY_ORIGIN: 353700.00000 5269800.00000
SECONDARY_XY_ORIGIN: 353762.01600 5269585.96800
NATION: US
STATE: MT
NW_QUAD_CORNER_XY: 354255.94000 5269494.74200
NE_QUAD_CORNER_XY: 358957.21000 5269379.26400
SE_QUAD_CORNERY_XY: 358789.48500 5262433.54300
SW_QUAD_CORNER_XY: 354082.61900 5262549.04200
SECONDARY_NW_QUAD_XY: 354251.39400 5269276.04200
SECONDARY_NE_QUAD_XY: 358952.81200 5269160.56100
SECONDARY_SE_QUAD_XY: 358785.08600 5262214.86100
SECONDARY_SW_QUAD_XY: 354078.07500 5262330.36400
RMSE_XY: 3.38300
IMAGE_SOURCE: BLACK AND WHITE FILM
SOURCE_IMAGE_ID: NAPP 9490 24
SOURCE_IMAGE_DATE: 1995 08 31
SOURCE_IMAGE_ID: NAPP 9490 22
SOURCE_IMAGE_DATE: 1995 08 31
SOURCE_IMAGE_ID: NAPP 9491 13
SOURCE_IMAGE_DATE: 1995 09 01
SOURCE_IMAGE_ID: NAPP 9490 23
SOURCE_IMAGE_DATE: 1995 08 31
SOURCE_DEM_DATE: 1988 00 00
AGENCY: WESTERN MAPPING CENTER (WMC)
PRODUCER: ANALYTICAL SURVEYS INC.
PRODUCTION_SYSTEM: ORBIT OR_RECTIFY V.5.2
COMPRESSION: UNDEFINED
STANDARD_VERSION: 1996 12
METADATA_DATE: 1998 12 16
DATA_FILE_SIZE: 42859980
BYTE_COUNT: 5580
