FILENAME: O4711225.SWS.958267.tif
QUADRANGLE_NAME: PRETTY PRAIRIE
QUADRANT: SW
WEST_LONGITUDE: -113 0 0.00000
EAST_LONGITUDE: -112 56 15.00000
NORTH_LATITUDE: 47 33 45.00000
SOUTH_LATITUDE: 47 30 0.00000
PRODUCTION_DATE: 1998 12 11
RASTER_ORDER: LEFT_RIGHT/TOP_BOTTOM
BAND_ORGANIZATION: SINGLE FILE
BAND_CONTENT: BLACK&WHITE
BAND_CONTENT: UNDEFINED
BAND_CONTENT: UNDEFINED
BITS_PER_PIXEL: 8
SAMPLES_AND_LINES: 5580 7680
HORIZONTAL_DATUM: NAD83
HORIZONTAL_COORDINATE_SYSTEM: UTM
COORDINATE_ZONE: 12
HORIZONTAL_UNITS: METERS
HORIZONTAL_RESOLUTION: 1.00000
SECONDARY_HORIZONTAL_DATUM: NAD27
XY_ORIGIN: 348990.00000 5269920.00000
SECONDARY_XY_ORIGIN: 349052.08500 5269705.96700
NATION: US
STATE: MT
NW_QUAD_CORNER_XY: 349554.68400 5269614.00800
NE_QUAD_CORNER_XY: 354255.94000 5269494.74200
SE_QUAD_CORNERY_XY: 354082.61900 5262549.04200
SW_QUAD_CORNER_XY: 349375.76900 5262668.33200
SECONDARY_NW_QUAD_XY: 349549.99200 5269395.31300
SECONDARY_NE_QUAD_XY: 354251.39400 5269276.04200
SECONDARY_SE_QUAD_XY: 354078.07500 5262330.36400
SECONDARY_SW_QUAD_XY: 349371.07800 5262449.65700
RMSE_XY: 4.33800
IMAGE_SOURCE: BLACK AND WHITE FILM
SOURCE_IMAGE_ID: NAPP 9491 13
SOURCE_IMAGE_DATE: 1995 09 01
SOURCE_DEM_DATE: 1988 00 00
AGENCY: WESTERN MAPPING CENTER (WMC)
PRODUCER: ANALYTICAL SURVEYS INC.
PRODUCTION_SYSTEM: ORBIT OR_RECTIFY V.5.2
COMPRESSION: UNDEFINED
STANDARD_VERSION: 1996 12
METADATA_DATE: 1998 12 16
DATA_FILE_SIZE: 42859980
BYTE_COUNT: 5580
