FILENAME: O4711224.SES.950382.tif
QUADRANGLE_NAME: FREEZEOUT LAKE
QUADRANT: SE
WEST_LONGITUDE: -112 3 45.00000
EAST_LONGITUDE: -112 0 0.00000
NORTH_LATITUDE: 47 41 15.00000
SOUTH_LATITUDE: 47 37 30.00000
PRODUCTION_DATE: 1998 12 16
RASTER_ORDER: LEFT_RIGHT/TOP_BOTTOM
BAND_ORGANIZATION: SINGLE FILE
BAND_CONTENT: BLACK&WHITE
BAND_CONTENT: UNDEFINED
BAND_CONTENT: UNDEFINED
BITS_PER_PIXEL: 8
SAMPLES_AND_LINES: 5490 7650
HORIZONTAL_DATUM: NAD83
HORIZONTAL_COORDINATE_SYSTEM: UTM
COORDINATE_ZONE: 12
HORIZONTAL_UNITS: METERS
HORIZONTAL_RESOLUTION: 1.00000
SECONDARY_HORIZONTAL_DATUM: NAD27
XY_ORIGIN: 419790.00000 5282430.00000
SECONDARY_XY_ORIGIN: 419850.78100 5282215.71900
NATION: US
STATE: MT
NW_QUAD_CORNER_XY: 420265.23500 5282114.83200
NE_QUAD_CORNER_XY: 424955.47000 5282052.39900
SE_QUAD_CORNERY_XY: 424865.85600 5275106.29800
SW_QUAD_CORNER_XY: 420170.01900 5275168.74400
SECONDARY_NW_QUAD_XY: 420262.74200 5281896.05300
SECONDARY_NE_QUAD_XY: 424953.12300 5281833.61900
SECONDARY_SE_QUAD_XY: 424863.51000 5274887.53700
SECONDARY_SW_QUAD_XY: 420167.52600 5274949.98400
RMSE_XY: 0.69000
IMAGE_SOURCE: BLACK AND WHITE FILM
SOURCE_IMAGE_ID: NAPP 8387 12
SOURCE_IMAGE_DATE: 1995 08 09
SOURCE_DEM_DATE: 1987 00 00
AGENCY: WESTERN MAPPING CENTER (WMC)
PRODUCER: ANALYTICAL SURVEYS INC.
PRODUCTION_SYSTEM: ORBIT OR_RECTIFY V.5.2
COMPRESSION: UNDEFINED
STANDARD_VERSION: 1996 12
METADATA_DATE: 1998 12 17
DATA_FILE_SIZE: 42003990
BYTE_COUNT: 5490
