FILENAME: O4711223.SES.950378.tif
QUADRANGLE_NAME: SEVENMILE HILL
QUADRANT: SE
WEST_LONGITUDE: -112 11 15.00000
EAST_LONGITUDE: -112 7 30.00000
NORTH_LATITUDE: 47 41 15.00000
SOUTH_LATITUDE: 47 37 30.00000
PRODUCTION_DATE: 1998 12 16
RASTER_ORDER: LEFT_RIGHT/TOP_BOTTOM
BAND_ORGANIZATION: SINGLE FILE
BAND_CONTENT: BLACK&WHITE
BAND_CONTENT: UNDEFINED
BAND_CONTENT: UNDEFINED
BITS_PER_PIXEL: 8
SAMPLES_AND_LINES: 5490 7650
HORIZONTAL_DATUM: NAD83
HORIZONTAL_COORDINATE_SYSTEM: UTM
COORDINATE_ZONE: 12
HORIZONTAL_UNITS: METERS
HORIZONTAL_RESOLUTION: 1.00000
SECONDARY_HORIZONTAL_DATUM: NAD27
XY_ORIGIN: 410400.00000 5282580.00000
SECONDARY_XY_ORIGIN: 410461.06900 5282365.67500
NATION: US
STATE: MT
NW_QUAD_CORNER_XY: 410884.79200 5282251.05100
NE_QUAD_CORNER_XY: 415575.00900 5282181.04900
SE_QUAD_CORNERY_XY: 415474.19100 5275234.97400
SW_QUAD_CORNER_XY: 410778.37100 5275304.99000
SECONDARY_NW_QUAD_XY: 410882.00600 5282032.27700
SECONDARY_NE_QUAD_XY: 415572.36900 5281962.27300
SECONDARY_SE_QUAD_XY: 415471.55100 5275016.21700
SECONDARY_SW_QUAD_XY: 410775.58500 5275086.23500
RMSE_XY: 1.11000
IMAGE_SOURCE: BLACK AND WHITE FILM
SOURCE_IMAGE_ID: NAPP 8380 50
SOURCE_IMAGE_DATE: 1995 07 01
SOURCE_DEM_DATE: 1987 00 00
AGENCY: WESTERN MAPPING CENTER (WMC)
PRODUCER: ANALYTICAL SURVEYS INC.
PRODUCTION_SYSTEM: ORBIT OR_RECTIFY V.5.2
COMPRESSION: UNDEFINED
STANDARD_VERSION: 1996 12
METADATA_DATE: 1998 12 17
DATA_FILE_SIZE: 42003990
BYTE_COUNT: 5490
