FILENAME: O4711223.SWS.950379.tif
QUADRANGLE_NAME: SEVENMILE HILL
QUADRANT: SW
WEST_LONGITUDE: -112 15 0.00000
EAST_LONGITUDE: -112 11 15.00000
NORTH_LATITUDE: 47 41 15.00000
SOUTH_LATITUDE: 47 37 30.00000
PRODUCTION_DATE: 1998 12 16
RASTER_ORDER: LEFT_RIGHT/TOP_BOTTOM
BAND_ORGANIZATION: SINGLE FILE
BAND_CONTENT: BLACK&WHITE
BAND_CONTENT: UNDEFINED
BAND_CONTENT: UNDEFINED
BITS_PER_PIXEL: 8
SAMPLES_AND_LINES: 5520 7650
HORIZONTAL_DATUM: NAD83
HORIZONTAL_COORDINATE_SYSTEM: UTM
COORDINATE_ZONE: 12
HORIZONTAL_UNITS: METERS
HORIZONTAL_RESOLUTION: 1.00000
SECONDARY_HORIZONTAL_DATUM: NAD27
XY_ORIGIN: 405690.00000 5282640.00000
SECONDARY_XY_ORIGIN: 405751.21400 5282425.65300
NATION: US
STATE: MT
NW_QUAD_CORNER_XY: 406194.58500 5282324.83800
NE_QUAD_CORNER_XY: 410884.79200 5282251.05100
SE_QUAD_CORNERY_XY: 410778.37100 5275304.99000
SW_QUAD_CORNER_XY: 406082.56200 5275378.79200
SECONDARY_NW_QUAD_XY: 406191.65200 5282106.06600
SECONDARY_NE_QUAD_XY: 410882.00600 5282032.27700
SECONDARY_SE_QUAD_XY: 410775.58500 5275086.23500
SECONDARY_SW_QUAD_XY: 406079.62900 5275160.03900
RMSE_XY: 1.24000
IMAGE_SOURCE: BLACK AND WHITE FILM
SOURCE_IMAGE_ID: NAPP 8384 14
SOURCE_IMAGE_DATE: 1995 08 04
SOURCE_DEM_DATE: 1987 00 00
AGENCY: WESTERN MAPPING CENTER (WMC)
PRODUCER: ANALYTICAL SURVEYS INC.
PRODUCTION_SYSTEM: ORBIT OR_RECTIFY V.5.2
COMPRESSION: UNDEFINED
STANDARD_VERSION: 1996 12
METADATA_DATE: 1998 12 17
DATA_FILE_SIZE: 42233520
BYTE_COUNT: 5520
