FILENAME: O4711221.SWS.950475.tif
QUADRANGLE_NAME: PISHKUN RESERVOIR
QUADRANT: SW
WEST_LONGITUDE: -112 30 0.00000
EAST_LONGITUDE: -112 26 15.00000
NORTH_LATITUDE: 47 41 15.00000
SOUTH_LATITUDE: 47 37 30.00000
PRODUCTION_DATE: 1998 12 18
RASTER_ORDER: LEFT_RIGHT/TOP_BOTTOM
BAND_ORGANIZATION: SINGLE FILE
BAND_CONTENT: BLACK&WHITE
BAND_CONTENT: UNDEFINED
BAND_CONTENT: UNDEFINED
BITS_PER_PIXEL: 8
SAMPLES_AND_LINES: 5520 7680
HORIZONTAL_DATUM: NAD83
HORIZONTAL_COORDINATE_SYSTEM: UTM
COORDINATE_ZONE: 12
HORIZONTAL_UNITS: METERS
HORIZONTAL_RESOLUTION: 1.00000
SECONDARY_HORIZONTAL_DATUM: NAD27
XY_ORIGIN: 386910.00000 5282970.00000
SECONDARY_XY_ORIGIN: 386971.44100 5282755.71800
NATION: US
STATE: MT
NW_QUAD_CORNER_XY: 387433.86500 5282657.83700
NE_QUAD_CORNER_XY: 392124.02800 5282568.90900
SE_QUAD_CORNERY_XY: 391995.19600 5275622.91100
SW_QUAD_CORNER_XY: 387299.42900 5275711.85700
SECONDARY_NW_QUAD_XY: 387430.34600 5282439.07500
SECONDARY_NE_QUAD_XY: 392120.65500 5282350.14500
SECONDARY_SE_QUAD_XY: 391991.82300 5275404.16600
SECONDARY_SW_QUAD_XY: 387295.91000 5275493.11500
RMSE_XY: 1.08000
IMAGE_SOURCE: BLACK AND WHITE FILM
SOURCE_IMAGE_ID: NAPP 8384 142
SOURCE_IMAGE_DATE: 1995 08 05
SOURCE_IMAGE_ID: NAPP 8384 144
SOURCE_IMAGE_DATE: 1995 08 05
SOURCE_DEM_DATE: 1987 00 00
AGENCY: WESTERN MAPPING CENTER (WMC)
PRODUCER: ANALYTICAL SURVEYS INC.
PRODUCTION_SYSTEM: ORBIT OR_RECTIFY V.5.2
COMPRESSION: UNDEFINED
STANDARD_VERSION: 1996 12
METADATA_DATE: 1998 12 28
DATA_FILE_SIZE: 42399120
BYTE_COUNT: 5520
