FILENAME: O4711220.NES.950441.tif
QUADRANGLE_NAME: SPLIT ROCK LAKE
QUADRANT: NE
WEST_LONGITUDE: -112 33 45.00000
EAST_LONGITUDE: -112 30 0.00000
NORTH_LATITUDE: 47 45 0.00000
SOUTH_LATITUDE: 47 41 15.00000
PRODUCTION_DATE: 1998 12 17
RASTER_ORDER: LEFT_RIGHT/TOP_BOTTOM
BAND_ORGANIZATION: SINGLE FILE
BAND_CONTENT: BLACK&WHITE
BAND_CONTENT: UNDEFINED
BAND_CONTENT: UNDEFINED
BITS_PER_PIXEL: 8
SAMPLES_AND_LINES: 5520 7680
HORIZONTAL_DATUM: NAD83
HORIZONTAL_COORDINATE_SYSTEM: UTM
COORDINATE_ZONE: 12
HORIZONTAL_UNITS: METERS
HORIZONTAL_RESOLUTION: 1.00000
SECONDARY_HORIZONTAL_DATUM: NAD27
XY_ORIGIN: 382350.00000 5290020.00000
SECONDARY_XY_ORIGIN: 382411.47800 5289805.66200
NATION: US
STATE: MT
NW_QUAD_CORNER_XY: 382883.89500 5289696.58200
NE_QUAD_CORNER_XY: 387568.43600 5289603.88800
SE_QUAD_CORNERY_XY: 387433.86500 5282657.83700
SW_QUAD_CORNER_XY: 382743.71500 5282750.55000
SECONDARY_NW_QUAD_XY: 382880.22800 5289477.80500
SECONDARY_NE_QUAD_XY: 387564.91600 5289385.10700
SECONDARY_SE_QUAD_XY: 387430.34600 5282439.07500
SECONDARY_SW_QUAD_XY: 382740.04900 5282531.79200
RMSE_XY: 1.64000
IMAGE_SOURCE: BLACK AND WHITE FILM
SOURCE_IMAGE_ID: NAPP 8384 161
SOURCE_IMAGE_DATE: 1995 08 05
SOURCE_DEM_DATE: 1990 00 00
AGENCY: WESTERN MAPPING CENTER (WMC)
PRODUCER: ANALYTICAL SURVEYS INC.
PRODUCTION_SYSTEM: ORBIT OR_RECTIFY V.5.2
COMPRESSION: UNDEFINED
STANDARD_VERSION: 1996 12
METADATA_DATE: 1998 12 17
DATA_FILE_SIZE: 42399120
BYTE_COUNT: 5520
