FILENAME: O4711220.SWS.950444.tif
QUADRANGLE_NAME: SPLIT ROCK LAKE
QUADRANT: SW
WEST_LONGITUDE: -112 37 30.00000
EAST_LONGITUDE: -112 33 45.00000
NORTH_LATITUDE: 47 41 15.00000
SOUTH_LATITUDE: 47 37 30.00000
PRODUCTION_DATE: 1998 12 17
RASTER_ORDER: LEFT_RIGHT/TOP_BOTTOM
BAND_ORGANIZATION: SINGLE FILE
BAND_CONTENT: BLACK&WHITE
BAND_CONTENT: UNDEFINED
BAND_CONTENT: UNDEFINED
BITS_PER_PIXEL: 8
SAMPLES_AND_LINES: 5550 7650
HORIZONTAL_DATUM: NAD83
HORIZONTAL_COORDINATE_SYSTEM: UTM
COORDINATE_ZONE: 12
HORIZONTAL_UNITS: METERS
HORIZONTAL_RESOLUTION: 1.00000
SECONDARY_HORIZONTAL_DATUM: NAD27
XY_ORIGIN: 377520.00000 5283150.00000
SECONDARY_XY_ORIGIN: 377581.58800 5282935.77300
NATION: US
STATE: MT
NW_QUAD_CORNER_XY: 378053.57800 5282847.05000
NE_QUAD_CORNER_XY: 382743.71500 5282750.55000
SE_QUAD_CORNERY_XY: 382603.67500 5275804.58900
SW_QUAD_CORNER_XY: 377907.93400 5275901.10800
SECONDARY_NW_QUAD_XY: 378049.76500 5282628.29400
SECONDARY_NE_QUAD_XY: 382740.04900 5282531.79200
SECONDARY_SE_QUAD_XY: 382600.00900 5275585.85000
SECONDARY_SW_QUAD_XY: 377904.12100 5275682.37200
RMSE_XY: 1.94000
IMAGE_SOURCE: BLACK AND WHITE FILM
SOURCE_IMAGE_ID: NAPP 8384 265
SOURCE_IMAGE_DATE: 1995 08 05
SOURCE_IMAGE_ID: NAPP 8384 267
SOURCE_IMAGE_DATE: 1995 08 05
SOURCE_DEM_DATE: 1990 00 00
AGENCY: WESTERN MAPPING CENTER (WMC)
PRODUCER: ANALYTICAL SURVEYS INC.
PRODUCTION_SYSTEM: ORBIT OR_RECTIFY V.5.2
COMPRESSION: UNDEFINED
STANDARD_VERSION: 1996 12
METADATA_DATE: 1998 12 18
DATA_FILE_SIZE: 42463050
BYTE_COUNT: 5550
