FILENAME: O4711219.NES.950429.tif
QUADRANGLE_NAME: CASTLE REEF
QUADRANT: NE
WEST_LONGITUDE: -112 41 15.00000
EAST_LONGITUDE: -112 37 30.00000
NORTH_LATITUDE: 47 45 0.00000
SOUTH_LATITUDE: 47 41 15.00000
PRODUCTION_DATE: 1998 12 16
RASTER_ORDER: LEFT_RIGHT/TOP_BOTTOM
BAND_ORGANIZATION: SINGLE FILE
BAND_CONTENT: BLACK&WHITE
BAND_CONTENT: UNDEFINED
BAND_CONTENT: UNDEFINED
BITS_PER_PIXEL: 8
SAMPLES_AND_LINES: 5520 7680
HORIZONTAL_DATUM: NAD83
HORIZONTAL_COORDINATE_SYSTEM: UTM
COORDINATE_ZONE: 12
HORIZONTAL_UNITS: METERS
HORIZONTAL_RESOLUTION: 1.00000
SECONDARY_HORIZONTAL_DATUM: NAD27
XY_ORIGIN: 372990.00000 5290200.00000
SECONDARY_XY_ORIGIN: 373051.62300 5289985.72400
NATION: US
STATE: MT
NW_QUAD_CORNER_XY: 373514.85400 5289893.32700
NE_QUAD_CORNER_XY: 378199.36800 5289793.06200
SE_QUAD_CORNERY_XY: 378053.57800 5282847.05000
SW_QUAD_CORNER_XY: 373363.45400 5282947.33500
SECONDARY_NW_QUAD_XY: 373510.89400 5289674.55600
SECONDARY_NE_QUAD_XY: 378195.55400 5289574.28700
SECONDARY_SE_QUAD_XY: 378049.76500 5282628.29400
SECONDARY_SW_QUAD_XY: 373359.49400 5282728.58300
RMSE_XY: 1.75000
IMAGE_SOURCE: BLACK AND WHITE FILM
SOURCE_IMAGE_ID: NAPP 8386 88
SOURCE_IMAGE_DATE: 1995 08 05
SOURCE_IMAGE_ID: NAPP 8386 86
SOURCE_IMAGE_DATE: 1995 08 05
SOURCE_DEM_DATE: 1990 00 00
AGENCY: WESTERN MAPPING CENTER (WMC)
PRODUCER: ANALYTICAL SURVEYS INC.
PRODUCTION_SYSTEM: ORBIT OR_RECTIFY V.5.2
COMPRESSION: UNDEFINED
STANDARD_VERSION: 1996 12
METADATA_DATE: 1998 12 20
DATA_FILE_SIZE: 42399120
BYTE_COUNT: 5520
