FILENAME: O4711219.SWS.950432.tif
QUADRANGLE_NAME: CASTLE REEF
QUADRANT: SW
WEST_LONGITUDE: -112 45 0.00000
EAST_LONGITUDE: -112 41 15.00000
NORTH_LATITUDE: 47 41 15.00000
SOUTH_LATITUDE: 47 37 30.00000
PRODUCTION_DATE: 1998 12 16
RASTER_ORDER: LEFT_RIGHT/TOP_BOTTOM
BAND_ORGANIZATION: SINGLE FILE
BAND_CONTENT: BLACK&WHITE
BAND_CONTENT: UNDEFINED
BAND_CONTENT: UNDEFINED
BITS_PER_PIXEL: 8
SAMPLES_AND_LINES: 5550 7680
HORIZONTAL_DATUM: NAD83
HORIZONTAL_COORDINATE_SYSTEM: UTM
COORDINATE_ZONE: 12
HORIZONTAL_UNITS: METERS
HORIZONTAL_RESOLUTION: 1.00000
SECONDARY_HORIZONTAL_DATUM: NAD27
XY_ORIGIN: 368130.00000 5283360.00000
SECONDARY_XY_ORIGIN: 368191.73700 5283145.82700
NATION: US
STATE: MT
NW_QUAD_CORNER_XY: 368673.34400 5283051.40700
NE_QUAD_CORNER_XY: 373363.45400 5282947.33500
SE_QUAD_CORNERY_XY: 373212.20600 5276001.41300
SW_QUAD_CORNER_XY: 368516.49100 5276105.50600
SECONDARY_NW_QUAD_XY: 368669.23800 5282832.65800
SECONDARY_NE_QUAD_XY: 373359.49400 5282728.58300
SECONDARY_SE_QUAD_XY: 373208.24600 5275782.68000
SECONDARY_SW_QUAD_XY: 368512.38500 5275886.77600
RMSE_XY: 2.17000
IMAGE_SOURCE: BLACK AND WHITE FILM
SOURCE_IMAGE_ID: NAPP 8386 115
SOURCE_IMAGE_DATE: 1995 08 05
SOURCE_IMAGE_ID: NAPP 8386 113
SOURCE_IMAGE_DATE: 1995 08 05
SOURCE_IMAGE_ID: NAPP 8386 117
SOURCE_IMAGE_DATE: 1995 08 05
SOURCE_IMAGE_ID: NAPP 8386 114
SOURCE_IMAGE_DATE: 1995 08 05
SOURCE_DEM_DATE: 1990 00 00
AGENCY: WESTERN MAPPING CENTER (WMC)
PRODUCER: ANALYTICAL SURVEYS INC.
PRODUCTION_SYSTEM: ORBIT OR_RECTIFY V.5.2
COMPRESSION: UNDEFINED
STANDARD_VERSION: 1996 12
METADATA_DATE: 1998 12 20
DATA_FILE_SIZE: 42629550
BYTE_COUNT: 5550
