FILENAME: O4711217.NES.958260.tif
QUADRANGLE_NAME: GLENN CREEK
QUADRANT: NE
WEST_LONGITUDE: -112 56 15.00000
EAST_LONGITUDE: -112 52 30.00000
NORTH_LATITUDE: 47 45 0.00000
SOUTH_LATITUDE: 47 41 15.00000
PRODUCTION_DATE: 1998 12 11
RASTER_ORDER: LEFT_RIGHT/TOP_BOTTOM
BAND_ORGANIZATION: SINGLE FILE
BAND_CONTENT: BLACK&WHITE
BAND_CONTENT: UNDEFINED
BAND_CONTENT: UNDEFINED
BITS_PER_PIXEL: 8
SAMPLES_AND_LINES: 5580 7710
HORIZONTAL_DATUM: NAD83
HORIZONTAL_COORDINATE_SYSTEM: UTM
COORDINATE_ZONE: 12
HORIZONTAL_UNITS: METERS
HORIZONTAL_RESOLUTION: 1.00000
SECONDARY_HORIZONTAL_DATUM: NAD27
XY_ORIGIN: 354210.00000 5290650.00000
SECONDARY_XY_ORIGIN: 354272.02500 5290435.83900
NATION: US
STATE: MT
NW_QUAD_CORNER_XY: 354776.94700 5290332.24400
NE_QUAD_CORNER_XY: 359461.40000 5290216.83500
SE_QUAD_CORNERY_XY: 359293.16800 5283270.91000
SW_QUAD_CORNER_XY: 354603.10400 5283386.34200
SECONDARY_NW_QUAD_XY: 354772.40000 5290113.48600
SECONDARY_NE_QUAD_XY: 359457.00000 5289998.07400
SECONDARY_SE_QUAD_XY: 359288.76900 5283052.16800
SECONDARY_SW_QUAD_XY: 354598.55700 5283167.60300
RMSE_XY: 1.93800
IMAGE_SOURCE: BLACK AND WHITE FILM
SOURCE_IMAGE_ID: NAPP 9490 18
SOURCE_IMAGE_DATE: 1995 08 31
SOURCE_DEM_DATE: 1988 00 00
AGENCY: WESTERN MAPPING CENTER (WMC)
PRODUCER: ANALYTICAL SURVEYS INC.
PRODUCTION_SYSTEM: ORBIT OR_RECTIFY V.5.2
COMPRESSION: UNDEFINED
STANDARD_VERSION: 1996 12
METADATA_DATE: 1998 12 16
DATA_FILE_SIZE: 43027380
BYTE_COUNT: 5580
