FILENAME: O4711217.NWS.958261.tif
QUADRANGLE_NAME: GLENN CREEK
QUADRANT: NW
WEST_LONGITUDE: -113 0 0.00000
EAST_LONGITUDE: -112 56 15.00000
NORTH_LATITUDE: 47 45 0.00000
SOUTH_LATITUDE: 47 41 15.00000
PRODUCTION_DATE: 1998 12 15
RASTER_ORDER: LEFT_RIGHT/TOP_BOTTOM
BAND_ORGANIZATION: SINGLE FILE
BAND_CONTENT: BLACK&WHITE
BAND_CONTENT: UNDEFINED
BAND_CONTENT: UNDEFINED
BITS_PER_PIXEL: 8
SAMPLES_AND_LINES: 5550 7710
HORIZONTAL_DATUM: NAD83
HORIZONTAL_COORDINATE_SYSTEM: UTM
COORDINATE_ZONE: 12
HORIZONTAL_UNITS: METERS
HORIZONTAL_RESOLUTION: 1.00000
SECONDARY_HORIZONTAL_DATUM: NAD27
XY_ORIGIN: 349530.00000 5290770.00000
SECONDARY_XY_ORIGIN: 349592.13500 5290555.86800
NATION: US
STATE: MT
NW_QUAD_CORNER_XY: 350092.51000 5290451.43800
NE_QUAD_CORNER_XY: 354776.94700 5290332.24400
SE_QUAD_CORNERY_XY: 354603.10400 5283386.34200
SW_QUAD_CORNER_XY: 349913.05500 5283505.56100
SECONDARY_NW_QUAD_XY: 350087.81700 5290232.68500
SECONDARY_NE_QUAD_XY: 354772.40000 5290113.48600
SECONDARY_SE_QUAD_XY: 354598.55700 5283167.60300
SECONDARY_SW_QUAD_XY: 349908.36200 5283286.82600
RMSE_XY: 2.73900
IMAGE_SOURCE: BLACK AND WHITE FILM
SOURCE_IMAGE_ID: NAPP 9491 19
SOURCE_IMAGE_DATE: 1995 09 01
SOURCE_IMAGE_ID: NAPP 9491 21
SOURCE_IMAGE_DATE: 1995 09 01
SOURCE_DEM_DATE: 1988 00 00
AGENCY: WESTERN MAPPING CENTER (WMC)
PRODUCER: ANALYTICAL SURVEYS INC.
PRODUCTION_SYSTEM: ORBIT OR_RECTIFY V.5.2
COMPRESSION: UNDEFINED
STANDARD_VERSION: 1996 12
METADATA_DATE: 1998 12 16
DATA_FILE_SIZE: 42796050
BYTE_COUNT: 5550
