FILENAME: O4711217.SWS.958263.tif
QUADRANGLE_NAME: GLENN CREEK
QUADRANT: SW
WEST_LONGITUDE: -113 0 0.00000
EAST_LONGITUDE: -112 56 15.00000
NORTH_LATITUDE: 47 41 15.00000
SOUTH_LATITUDE: 47 37 30.00000
PRODUCTION_DATE: 1998 12 15
RASTER_ORDER: LEFT_RIGHT/TOP_BOTTOM
BAND_ORGANIZATION: SINGLE FILE
BAND_CONTENT: BLACK&WHITE
BAND_CONTENT: UNDEFINED
BAND_CONTENT: UNDEFINED
BITS_PER_PIXEL: 8
SAMPLES_AND_LINES: 5580 7680
HORIZONTAL_DATUM: NAD83
HORIZONTAL_COORDINATE_SYSTEM: UTM
COORDINATE_ZONE: 12
HORIZONTAL_UNITS: METERS
HORIZONTAL_RESOLUTION: 1.00000
SECONDARY_HORIZONTAL_DATUM: NAD27
XY_ORIGIN: 349350.00000 5283810.00000
SECONDARY_XY_ORIGIN: 349412.11900 5283595.90000
NATION: US
STATE: MT
NW_QUAD_CORNER_XY: 349913.05500 5283505.56100
NE_QUAD_CORNER_XY: 354603.10400 5283386.34200
SE_QUAD_CORNERY_XY: 354429.43400 5276440.50800
SW_QUAD_CORNER_XY: 349733.78000 5276559.75100
SECONDARY_NW_QUAD_XY: 349908.36200 5283286.82600
SECONDARY_NE_QUAD_XY: 354598.55700 5283167.60300
SECONDARY_SE_QUAD_XY: 354424.88900 5276221.78900
SECONDARY_SW_QUAD_XY: 349729.08700 5276341.03600
RMSE_XY: 2.37600
IMAGE_SOURCE: BLACK AND WHITE FILM
SOURCE_IMAGE_ID: NAPP 9491 17
SOURCE_IMAGE_DATE: 1995 09 01
SOURCE_IMAGE_ID: NAPP 9491 19
SOURCE_IMAGE_DATE: 1995 09 01
SOURCE_IMAGE_ID: NAPP 9490 20
SOURCE_IMAGE_DATE: 1995 08 31
SOURCE_IMAGE_ID: NAPP 8401 56
SOURCE_IMAGE_DATE: 1995 08 31
SOURCE_DEM_DATE: 1988 00 00
AGENCY: WESTERN MAPPING CENTER (WMC)
PRODUCER: ANALYTICAL SURVEYS INC.
PRODUCTION_SYSTEM: ORBIT OR_RECTIFY V.5.2
COMPRESSION: UNDEFINED
STANDARD_VERSION: 1996 12
METADATA_DATE: 1998 12 16
DATA_FILE_SIZE: 42859980
BYTE_COUNT: 5580
