FILENAME: O4711216.NES.950388.tif
QUADRANGLE_NAME: CHOTEAU SE
QUADRANT: NE
WEST_LONGITUDE: -112 3 45.00000
EAST_LONGITUDE: -112 0 0.00000
NORTH_LATITUDE: 47 52 30.00000
SOUTH_LATITUDE: 47 48 45.00000
PRODUCTION_DATE: 1998 12 17
RASTER_ORDER: LEFT_RIGHT/TOP_BOTTOM
BAND_ORGANIZATION: SINGLE FILE
BAND_CONTENT: BLACK&WHITE
BAND_CONTENT: UNDEFINED
BAND_CONTENT: UNDEFINED
BITS_PER_PIXEL: 8
SAMPLES_AND_LINES: 5460 7650
HORIZONTAL_DATUM: NAD83
HORIZONTAL_COORDINATE_SYSTEM: UTM
COORDINATE_ZONE: 12
HORIZONTAL_UNITS: METERS
HORIZONTAL_RESOLUTION: 1.00000
SECONDARY_HORIZONTAL_DATUM: NAD27
XY_ORIGIN: 420090.00000 5303280.00000
SECONDARY_XY_ORIGIN: 420150.99000 5303065.17600
NATION: US
STATE: MT
NW_QUAD_CORNER_XY: 420551.45600 5302953.53800
NE_QUAD_CORNER_XY: 425224.85100 5302891.14400
SE_QUAD_CORNERY_XY: 425134.96800 5295944.82200
SW_QUAD_CORNER_XY: 420455.95400 5296007.22900
SECONDARY_NW_QUAD_XY: 420548.96200 5302734.70600
SECONDARY_NE_QUAD_XY: 425222.50400 5302672.31000
SECONDARY_SE_QUAD_XY: 425132.62100 5295726.00500
SECONDARY_SW_QUAD_XY: 420453.46000 5295788.41400
RMSE_XY: 0.95000
IMAGE_SOURCE: BLACK AND WHITE FILM
SOURCE_IMAGE_ID: NAPP 8387 6
SOURCE_IMAGE_DATE: 1995 08 09
SOURCE_DEM_DATE: 1987 00 00
AGENCY: WESTERN MAPPING CENTER (WMC)
PRODUCER: ANALYTICAL SURVEYS INC.
PRODUCTION_SYSTEM: ORBIT OR_RECTIFY V.5.2
COMPRESSION: UNDEFINED
STANDARD_VERSION: 1996 12
METADATA_DATE: 1998 12 20
DATA_FILE_SIZE: 41774460
BYTE_COUNT: 5460
