FILENAME: O4711216.NWS.950389.tif
QUADRANGLE_NAME: CHOTEAU SE
QUADRANT: NW
WEST_LONGITUDE: -112 7 30.00000
EAST_LONGITUDE: -112 3 45.00000
NORTH_LATITUDE: 47 52 30.00000
SOUTH_LATITUDE: 47 48 45.00000
PRODUCTION_DATE: 1998 12 17
RASTER_ORDER: LEFT_RIGHT/TOP_BOTTOM
BAND_ORGANIZATION: SINGLE FILE
BAND_CONTENT: BLACK&WHITE
BAND_CONTENT: UNDEFINED
BAND_CONTENT: UNDEFINED
BITS_PER_PIXEL: 8
SAMPLES_AND_LINES: 5460 7650
HORIZONTAL_DATUM: NAD83
HORIZONTAL_COORDINATE_SYSTEM: UTM
COORDINATE_ZONE: 12
HORIZONTAL_UNITS: METERS
HORIZONTAL_RESOLUTION: 1.00000
SECONDARY_HORIZONTAL_DATUM: NAD27
XY_ORIGIN: 415410.00000 5303340.00000
SECONDARY_XY_ORIGIN: 415471.08300 5303125.21800
NATION: US
STATE: MT
NW_QUAD_CORNER_XY: 415878.07000 5303019.71300
NE_QUAD_CORNER_XY: 420551.45600 5302953.53800
SE_QUAD_CORNERY_XY: 420455.95400 5296007.22900
SW_QUAD_CORNER_XY: 415776.94900 5296073.41900
SECONDARY_NW_QUAD_XY: 415875.43000 5302800.88300
SECONDARY_NE_QUAD_XY: 420548.96200 5302734.70600
SECONDARY_SE_QUAD_XY: 420453.46000 5295788.41400
SECONDARY_SW_QUAD_XY: 415774.30800 5295854.60600
RMSE_XY: 1.03000
IMAGE_SOURCE: BLACK AND WHITE FILM
SOURCE_IMAGE_ID: NAPP 8387 45
SOURCE_IMAGE_DATE: 1995 08 09
SOURCE_DEM_DATE: 1987 00 00
AGENCY: WESTERN MAPPING CENTER (WMC)
PRODUCER: ANALYTICAL SURVEYS INC.
PRODUCTION_SYSTEM: ORBIT OR_RECTIFY V.5.2
COMPRESSION: UNDEFINED
STANDARD_VERSION: 1996 12
METADATA_DATE: 1998 12 20
DATA_FILE_SIZE: 41774460
BYTE_COUNT: 5460
